BEGIN:VCALENDAR
VERSION:2.0
PRODID:-//Darts Canberra - ECPv6.15.20//NONSGML v1.0//EN
CALSCALE:GREGORIAN
METHOD:PUBLISH
X-ORIGINAL-URL:https://dartscanberra.com.au
X-WR-CALDESC:Events for Darts Canberra
REFRESH-INTERVAL;VALUE=DURATION:PT1H
X-Robots-Tag:noindex
X-PUBLISHED-TTL:PT1H
BEGIN:VTIMEZONE
TZID:Australia/Sydney
BEGIN:STANDARD
TZOFFSETFROM:+1100
TZOFFSETTO:+1000
TZNAME:AEST
DTSTART:20240406T160000
END:STANDARD
BEGIN:DAYLIGHT
TZOFFSETFROM:+1000
TZOFFSETTO:+1100
TZNAME:AEDT
DTSTART:20241005T160000
END:DAYLIGHT
BEGIN:STANDARD
TZOFFSETFROM:+1100
TZOFFSETTO:+1000
TZNAME:AEST
DTSTART:20250405T160000
END:STANDARD
BEGIN:DAYLIGHT
TZOFFSETFROM:+1000
TZOFFSETTO:+1100
TZNAME:AEDT
DTSTART:20251004T160000
END:DAYLIGHT
BEGIN:STANDARD
TZOFFSETFROM:+1100
TZOFFSETTO:+1000
TZNAME:AEST
DTSTART:20260404T160000
END:STANDARD
BEGIN:DAYLIGHT
TZOFFSETFROM:+1000
TZOFFSETTO:+1100
TZNAME:AEDT
DTSTART:20261003T160000
END:DAYLIGHT
END:VTIMEZONE
BEGIN:VEVENT
DTSTART;TZID=Australia/Sydney:20250816T100000
DTEND;TZID=Australia/Sydney:20250816T180000
DTSTAMP:20260424T142155
CREATED:20250219T163839Z
LAST-MODIFIED:20250525T203707Z
UID:1508-1755338400-1755367200@dartscanberra.com.au
SUMMARY:Marie Banks Memorial
DESCRIPTION:Marie Banks Canberra Open \nDarts ACT would like to welcome all players to the Marie Banks Canberra Open. \nREGISTER FOR THIS EVENT HERE \nEligibility\nOpen to players from Canberra & surrounding regions. \nEntry Fee\n$25 \nTotal Prize Pool – $1000*\nMen – $700\nLadies – $300 \nMen\nWinner – $300 + Trophy\nRunner-up – $150\nSemi Finalist – $65\nTop 8 Losers – $30 \nLadies\nWinner – $150 + Trophy\nRunner-up – $70\nSemi Finalist – $40 \n*prize pool subject to change due to numbers \nVenue Information\nCanberra Irish Club \nRegistration\nOpens at 9:30am and closes at 10:00am – Play to commence at the conclusion of the draw. \nDress Rules\nCollared Shirt & Enclosed Shoes \nDartConnect will be used for this event
URL:https://dartscanberra.com.au/event/marie-banks-memorial/
LOCATION:Canberra Irish Club\, 6 Parkinson Street\, Weston\, ACT\, 2611\, Australia
CATEGORIES:Tournament
ATTACH;FMTTYPE=image/jpeg:https://dartscanberra.com.au/wp-content/uploads/2024/09/Image-6.jpeg
ORGANIZER;CN="ACT Darts Inc.":MAILTO:dartsact.secretary@gmail.com
END:VEVENT
END:VCALENDAR