BEGIN:VCALENDAR
VERSION:2.0
PRODID:-//Darts Canberra - ECPv6.15.20//NONSGML v1.0//EN
CALSCALE:GREGORIAN
METHOD:PUBLISH
X-ORIGINAL-URL:https://dartscanberra.com.au
X-WR-CALDESC:Events for Darts Canberra
REFRESH-INTERVAL;VALUE=DURATION:PT1H
X-Robots-Tag:noindex
X-PUBLISHED-TTL:PT1H
BEGIN:VTIMEZONE
TZID:Australia/Sydney
BEGIN:STANDARD
TZOFFSETFROM:+1100
TZOFFSETTO:+1000
TZNAME:AEST
DTSTART:20240406T160000
END:STANDARD
BEGIN:DAYLIGHT
TZOFFSETFROM:+1000
TZOFFSETTO:+1100
TZNAME:AEDT
DTSTART:20241005T160000
END:DAYLIGHT
BEGIN:STANDARD
TZOFFSETFROM:+1100
TZOFFSETTO:+1000
TZNAME:AEST
DTSTART:20250405T160000
END:STANDARD
BEGIN:DAYLIGHT
TZOFFSETFROM:+1000
TZOFFSETTO:+1100
TZNAME:AEDT
DTSTART:20251004T160000
END:DAYLIGHT
BEGIN:STANDARD
TZOFFSETFROM:+1100
TZOFFSETTO:+1000
TZNAME:AEST
DTSTART:20260404T160000
END:STANDARD
BEGIN:DAYLIGHT
TZOFFSETFROM:+1000
TZOFFSETTO:+1100
TZNAME:AEDT
DTSTART:20261003T160000
END:DAYLIGHT
END:VTIMEZONE
BEGIN:VEVENT
DTSTART;TZID=Australia/Sydney:20250907T093000
DTEND;TZID=Australia/Sydney:20250907T170000
DTSTAMP:20260424T130018
CREATED:20241019T182316Z
LAST-MODIFIED:20241019T191852Z
UID:960-1757237400-1757264400@dartscanberra.com.au
SUMMARY:Binalong Singles Open
DESCRIPTION:
URL:https://dartscanberra.com.au/event/binalong-open-2/
LOCATION:Hotel Binalong\, 34 Fitzroy St\, Binalong\, NSW\, 2584\, Australia
CATEGORIES:Tournament
END:VEVENT
BEGIN:VEVENT
DTSTART;TZID=Australia/Sydney:20250907T143000
DTEND;TZID=Australia/Sydney:20250907T180000
DTSTAMP:20260424T130018
CREATED:20250801T194557Z
LAST-MODIFIED:20250801T194656Z
UID:3153-1757255400-1757268000@dartscanberra.com.au
SUMMARY:Sunday Session Singles - Queanbeyan
DESCRIPTION:SUNDAY SESSION SINGLES AT THE TOURIST HOTEL\n1ST SUNDAY OF EACH MONTH \n$10 BUY IN \nREGO FROM 2:30pm \n1st GAMES AT 3pm SHARP NEXT ROUND 3rd AUGUST \nFOLLOW QUEANBEYAN SOCIAL DARTS & TOURIST HOTEL ON FACEBOOK FOR THE THEME OF THE MONTH. \nWEAR OR DRESS AS THE THEME FOR HALF PRICE ENTRY FEE. \nTHE THEME WILL BE POSTED ON FACEBOOK ON THE MONDAY PRIOR TO THAT ROUND.
URL:https://dartscanberra.com.au/event/sunday-session-singles-queanbeyan-2/
LOCATION:Tourist Hotel\, 31 Monaro St\, Queanbeyan\, NSW\, 2620\, Australia
CATEGORIES:Social
ATTACH;FMTTYPE=image/jpeg:https://dartscanberra.com.au/wp-content/uploads/2025/07/IMG_6557.jpeg
END:VEVENT
END:VCALENDAR