BEGIN:VCALENDAR
VERSION:2.0
PRODID:-//Darts Canberra - ECPv6.15.20//NONSGML v1.0//EN
CALSCALE:GREGORIAN
METHOD:PUBLISH
X-ORIGINAL-URL:https://dartscanberra.com.au
X-WR-CALDESC:Events for Darts Canberra
REFRESH-INTERVAL;VALUE=DURATION:PT1H
X-Robots-Tag:noindex
X-PUBLISHED-TTL:PT1H
BEGIN:VTIMEZONE
TZID:Australia/Sydney
BEGIN:STANDARD
TZOFFSETFROM:+1100
TZOFFSETTO:+1000
TZNAME:AEST
DTSTART:20250405T160000
END:STANDARD
BEGIN:DAYLIGHT
TZOFFSETFROM:+1000
TZOFFSETTO:+1100
TZNAME:AEDT
DTSTART:20251004T160000
END:DAYLIGHT
BEGIN:STANDARD
TZOFFSETFROM:+1100
TZOFFSETTO:+1000
TZNAME:AEST
DTSTART:20260404T160000
END:STANDARD
BEGIN:DAYLIGHT
TZOFFSETFROM:+1000
TZOFFSETTO:+1100
TZNAME:AEDT
DTSTART:20261003T160000
END:DAYLIGHT
BEGIN:STANDARD
TZOFFSETFROM:+1100
TZOFFSETTO:+1000
TZNAME:AEST
DTSTART:20270403T160000
END:STANDARD
BEGIN:DAYLIGHT
TZOFFSETFROM:+1000
TZOFFSETTO:+1100
TZNAME:AEDT
DTSTART:20271002T160000
END:DAYLIGHT
END:VTIMEZONE
BEGIN:VEVENT
DTSTART;TZID=Australia/Sydney:20260214T100000
DTEND;TZID=Australia/Sydney:20260214T170000
DTSTAMP:20260424T053358
CREATED:20260205T092527Z
LAST-MODIFIED:20260205T092527Z
UID:8820-1771063200-1771088400@dartscanberra.com.au
SUMMARY:1st ACT State Trials 2026
DESCRIPTION:2026 ACT State Team Selection Trials 1 \nACT State Team to compete at the 2026 Australian Dart Championships which will be hosted by Darts Australia to be held at the Stirling Adriatic Club\, Perth\, Western Australia \nCost is $5 and covers both selection trials. \nREGISTER FOR EVENT HERE \nRegistrations close at 10:30 am and play will commence at the conclusion of the draw. \nTrials is a round robin format of the best of 3 legs 501. \nIf trials do not conclude on Saturday\, players will be required to return on Sunday to complete trials. \n2nd trials will be held on the 21 February at the Burns Club. \nEligibility Criteria\nFor players to be eligible for representation duties\, each player must play 50% of the previous competition. If 50% is not achieved\, then eligibility is not achieved. Eg. 12 games for the season\, the player must have played six nights to be eligible. \nACT State eligibility if not an ACT resident\n\nIf not currently registered for DartsACT  you must meet 2 of the following 3 criteria\n\n\nPlay 50% of the Winter Competition prior to selection trials\nPlay 2 Monday Night leagues in the year prior to selection trials\nPlay 5 DA events in the year prior to selection trials\n\nIf you meet this criteria\, you also must be registered and playing in the Summer Comp or Monday Night League.  You must then approach Darts NSW to be released to play and must be fully financial.
URL:https://dartscanberra.com.au/event/1st-act-state-trials-2026/
LOCATION:The Burns Club\, 28 Kett St\, Kambah\, ACT\, 2902\, Australia
CATEGORIES:Tournament
ATTACH;FMTTYPE=image/png:https://dartscanberra.com.au/wp-content/uploads/2026/02/IMG_5878.png
ORGANIZER;CN="ACT Darts Inc.":MAILTO:dartsact.secretary@gmail.com
END:VEVENT
END:VCALENDAR