BEGIN:VCALENDAR
VERSION:2.0
PRODID:-//Darts Canberra - ECPv6.15.20//NONSGML v1.0//EN
CALSCALE:GREGORIAN
METHOD:PUBLISH
X-ORIGINAL-URL:https://dartscanberra.com.au
X-WR-CALDESC:Events for Darts Canberra
REFRESH-INTERVAL;VALUE=DURATION:PT1H
X-Robots-Tag:noindex
X-PUBLISHED-TTL:PT1H
BEGIN:VTIMEZONE
TZID:Australia/Sydney
BEGIN:STANDARD
TZOFFSETFROM:+1100
TZOFFSETTO:+1000
TZNAME:AEST
DTSTART:20230401T160000
END:STANDARD
BEGIN:DAYLIGHT
TZOFFSETFROM:+1000
TZOFFSETTO:+1100
TZNAME:AEDT
DTSTART:20230930T160000
END:DAYLIGHT
BEGIN:STANDARD
TZOFFSETFROM:+1100
TZOFFSETTO:+1000
TZNAME:AEST
DTSTART:20240406T160000
END:STANDARD
BEGIN:DAYLIGHT
TZOFFSETFROM:+1000
TZOFFSETTO:+1100
TZNAME:AEDT
DTSTART:20241005T160000
END:DAYLIGHT
BEGIN:STANDARD
TZOFFSETFROM:+1100
TZOFFSETTO:+1000
TZNAME:AEST
DTSTART:20250405T160000
END:STANDARD
BEGIN:DAYLIGHT
TZOFFSETFROM:+1000
TZOFFSETTO:+1100
TZNAME:AEDT
DTSTART:20251004T160000
END:DAYLIGHT
BEGIN:STANDARD
TZOFFSETFROM:+1100
TZOFFSETTO:+1000
TZNAME:AEST
DTSTART:20260404T160000
END:STANDARD
BEGIN:DAYLIGHT
TZOFFSETFROM:+1000
TZOFFSETTO:+1100
TZNAME:AEDT
DTSTART:20261003T160000
END:DAYLIGHT
END:VTIMEZONE
BEGIN:VTIMEZONE
TZID:UTC
BEGIN:STANDARD
TZOFFSETFROM:+0000
TZOFFSETTO:+0000
TZNAME:UTC
DTSTART:20230101T000000
END:STANDARD
END:VTIMEZONE
BEGIN:VEVENT
DTSTART;TZID=Australia/Sydney:20250317T190000
DTEND;TZID=Australia/Sydney:20250317T220000
DTSTAMP:20260424T142213
CREATED:20250102T162528Z
LAST-MODIFIED:20250102T162528Z
UID:1481-1742238000-1742248800@dartscanberra.com.au
SUMMARY:Darts ACT Singles League X
DESCRIPTION:Darts ACT Singles League X\nStart date:  3 February 2025 – 31 March 2025 – 8 weeks \nWeek off for Public Holiday 10 March \nTime: 7pm for a 7:15pm start Monday Nights @ The Burns Club Kambah \nCost: $150 (Players will need to be a member of DartsACT – $60 for 2025) \nThe competition is open to players of all abilities \nMaximum numbers 32 (8 players each division) \nMessage Ciaran on 0430 372 281 or ciaranholmes@hotmail.com for any questions. \nComplete Survey @ to register https://www.surveymonkey.com/r/HJ2QVKK \nNightly Format \nRound robin in groups of 4 (2 for each div) \nTop 2 from each group will go to semi-final winners of semi-finals to playoff for nightly winner. \nEach night the 2 groups will be changed. \nThe same 4 players will not occur for each of the 7 league nights. \nPlayers will be placed in divisions based on previous leagues and averages. \nPrize Money * Subject to player numbers and Sponsorship. \n1st $400  \n2nd $300  \n3rd $250  \n4th $200  \n5th $100 \nAfter 7 weeks \nHigh Peg = $50 \nMost 100’s = $50 \n1st = $50 \nPlayers and divisions will to be finalised on 30 January 2025
URL:https://dartscanberra.com.au/event/darts-act-singles-league-x-7/
LOCATION:The Burns Club\, 28 Kett St\, Kambah\, ACT\, 2902\, Australia
CATEGORIES:Competition
ATTACH;FMTTYPE=image/png:https://dartscanberra.com.au/wp-content/uploads/2024/10/IMG_4853.png
ORGANIZER;CN="ACT Darts Inc.":MAILTO:dartsact.secretary@gmail.com
END:VEVENT
BEGIN:VEVENT
DTSTART;TZID=Australia/Sydney:20250303T190000
DTEND;TZID=Australia/Sydney:20250303T220000
DTSTAMP:20260424T142213
CREATED:20250102T162356Z
LAST-MODIFIED:20250102T162356Z
UID:1479-1741028400-1741039200@dartscanberra.com.au
SUMMARY:Darts ACT Singles League X
DESCRIPTION:Darts ACT Singles League X\nStart date:  3 February 2025 – 31 March 2025 – 8 weeks \nWeek off for Public Holiday 10 March \nTime: 7pm for a 7:15pm start Monday Nights @ The Burns Club Kambah \nCost: $150 (Players will need to be a member of DartsACT – $60 for 2025) \nThe competition is open to players of all abilities \nMaximum numbers 32 (8 players each division) \nMessage Ciaran on 0430 372 281 or ciaranholmes@hotmail.com for any questions. \nComplete Survey @ to register https://www.surveymonkey.com/r/HJ2QVKK \nNightly Format \nRound robin in groups of 4 (2 for each div) \nTop 2 from each group will go to semi-final winners of semi-finals to playoff for nightly winner. \nEach night the 2 groups will be changed. \nThe same 4 players will not occur for each of the 7 league nights. \nPlayers will be placed in divisions based on previous leagues and averages. \nPrize Money * Subject to player numbers and Sponsorship. \n1st $400  \n2nd $300  \n3rd $250  \n4th $200  \n5th $100 \nAfter 7 weeks \nHigh Peg = $50 \nMost 100’s = $50 \n1st = $50 \nPlayers and divisions will to be finalised on 30 January 2025
URL:https://dartscanberra.com.au/event/darts-act-singles-league-x-6/
LOCATION:The Burns Club\, 28 Kett St\, Kambah\, ACT\, 2902\, Australia
CATEGORIES:Competition
ATTACH;FMTTYPE=image/png:https://dartscanberra.com.au/wp-content/uploads/2024/10/IMG_4853.png
ORGANIZER;CN="ACT Darts Inc.":MAILTO:dartsact.secretary@gmail.com
END:VEVENT
BEGIN:VEVENT
DTSTART;TZID=Australia/Sydney:20250224T190000
DTEND;TZID=Australia/Sydney:20250224T220000
DTSTAMP:20260424T142213
CREATED:20250102T161959Z
LAST-MODIFIED:20250102T161959Z
UID:1474-1740423600-1740434400@dartscanberra.com.au
SUMMARY:Darts ACT Singles League X
DESCRIPTION:Darts ACT Singles League X\nStart date:  3 February 2025 – 31 March 2025 – 8 weeks \nWeek off for Public Holiday 10 March \nTime: 7pm for a 7:15pm start Monday Nights @ The Burns Club Kambah \nCost: $150 (Players will need to be a member of DartsACT – $60 for 2025) \nThe competition is open to players of all abilities \nMaximum numbers 32 (8 players each division) \nMessage Ciaran on 0430 372 281 or ciaranholmes@hotmail.com for any questions. \nComplete Survey @ to register https://www.surveymonkey.com/r/HJ2QVKK \nNightly Format \nRound robin in groups of 4 (2 for each div) \nTop 2 from each group will go to semi-final winners of semi-finals to playoff for nightly winner. \nEach night the 2 groups will be changed. \nThe same 4 players will not occur for each of the 7 league nights. \nPlayers will be placed in divisions based on previous leagues and averages. \nPrize Money * Subject to player numbers and Sponsorship. \n1st $400  \n2nd $300  \n3rd $250  \n4th $200  \n5th $100 \nAfter 7 weeks \nHigh Peg = $50 \nMost 100’s = $50 \n1st = $50 \nPlayers and divisions will to be finalised on 30 January 2025
URL:https://dartscanberra.com.au/event/darts-act-singles-league-x-4/
LOCATION:The Burns Club\, 28 Kett St\, Kambah\, ACT\, 2902\, Australia
CATEGORIES:Competition
ATTACH;FMTTYPE=image/png:https://dartscanberra.com.au/wp-content/uploads/2024/10/IMG_4853.png
ORGANIZER;CN="ACT Darts Inc.":MAILTO:dartsact.secretary@gmail.com
END:VEVENT
BEGIN:VEVENT
DTSTART;TZID=UTC:20250224T080000
DTEND;TZID=UTC:20250224T170000
DTSTAMP:20260424T142213
CREATED:20250102T162233Z
LAST-MODIFIED:20250102T162233Z
UID:1477-1740384000-1740416400@dartscanberra.com.au
SUMMARY:Darts ACT Singles League X
DESCRIPTION:Darts ACT Singles League X\nStart date:  3 February 2025 – 31 March 2025 – 8 weeks \nWeek off for Public Holiday 10 March \nTime: 7pm for a 7:15pm start Monday Nights @ The Burns Club Kambah \nCost: $150 (Players will need to be a member of DartsACT – $60 for 2025) \nThe competition is open to players of all abilities \nMaximum numbers 32 (8 players each division) \nMessage Ciaran on 0430 372 281 or ciaranholmes@hotmail.com for any questions. \nComplete Survey @ to register https://www.surveymonkey.com/r/HJ2QVKK \nNightly Format \nRound robin in groups of 4 (2 for each div) \nTop 2 from each group will go to semi-final winners of semi-finals to playoff for nightly winner. \nEach night the 2 groups will be changed. \nThe same 4 players will not occur for each of the 7 league nights. \nPlayers will be placed in divisions based on previous leagues and averages. \nPrize Money * Subject to player numbers and Sponsorship. \n1st $400  \n2nd $300  \n3rd $250  \n4th $200  \n5th $100 \nAfter 7 weeks \nHigh Peg = $50 \nMost 100’s = $50 \n1st = $50 \nPlayers and divisions will to be finalised on 30 January 2025
URL:https://dartscanberra.com.au/event/darts-act-singles-league-x-5/
LOCATION:The Burns Club\, 28 Kett St\, Kambah\, ACT\, 2902\, Australia
CATEGORIES:Competition
ATTACH;FMTTYPE=image/png:https://dartscanberra.com.au/wp-content/uploads/2024/10/IMG_4853.png
ORGANIZER;CN="ACT Darts Inc.":MAILTO:dartsact.secretary@gmail.com
END:VEVENT
BEGIN:VEVENT
DTSTART;TZID=Australia/Sydney:20250217T190000
DTEND;TZID=Australia/Sydney:20250217T220000
DTSTAMP:20260424T142213
CREATED:20250102T161837Z
LAST-MODIFIED:20250102T161837Z
UID:1472-1739818800-1739829600@dartscanberra.com.au
SUMMARY:Darts ACT Singles League X
DESCRIPTION:Darts ACT Singles League X\nStart date:  3 February 2025 – 31 March 2025 – 8 weeks \nWeek off for Public Holiday 10 March \nTime: 7pm for a 7:15pm start Monday Nights @ The Burns Club Kambah \nCost: $150 (Players will need to be a member of DartsACT – $60 for 2025) \nThe competition is open to players of all abilities \nMaximum numbers 32 (8 players each division) \nMessage Ciaran on 0430 372 281 or ciaranholmes@hotmail.com for any questions. \nComplete Survey @ to register https://www.surveymonkey.com/r/HJ2QVKK \nNightly Format \nRound robin in groups of 4 (2 for each div) \nTop 2 from each group will go to semi-final winners of semi-finals to playoff for nightly winner. \nEach night the 2 groups will be changed. \nThe same 4 players will not occur for each of the 7 league nights. \nPlayers will be placed in divisions based on previous leagues and averages. \nPrize Money * Subject to player numbers and Sponsorship. \n1st $400  \n2nd $300  \n3rd $250  \n4th $200  \n5th $100 \nAfter 7 weeks \nHigh Peg = $50 \nMost 100’s = $50 \n1st = $50 \nPlayers and divisions will to be finalised on 30 January 2025
URL:https://dartscanberra.com.au/event/darts-act-singles-league-x-3/
LOCATION:The Burns Club\, 28 Kett St\, Kambah\, ACT\, 2902\, Australia
CATEGORIES:Competition
ATTACH;FMTTYPE=image/png:https://dartscanberra.com.au/wp-content/uploads/2024/10/IMG_4853.png
ORGANIZER;CN="ACT Darts Inc.":MAILTO:dartsact.secretary@gmail.com
END:VEVENT
BEGIN:VEVENT
DTSTART;TZID=Australia/Sydney:20250210T190000
DTEND;TZID=Australia/Sydney:20250210T220000
DTSTAMP:20260424T142213
CREATED:20250102T161502Z
LAST-MODIFIED:20250102T161723Z
UID:1469-1739214000-1739224800@dartscanberra.com.au
SUMMARY:Darts ACT Singles League X
DESCRIPTION:Darts ACT Singles League X\nStart date:  3 February 2025 – 31 March 2025 – 8 weeks \nWeek off for Public Holiday 10 March \nTime: 7pm for a 7:15pm start Monday Nights @ The Burns Club Kambah \nCost: $150 (Players will need to be a member of DartsACT – $60 for 2025) \nThe competition is open to players of all abilities \nMaximum numbers 32 (8 players each division) \nMessage Ciaran on 0430 372 281 or ciaranholmes@hotmail.com for any questions. \nComplete Survey @ to register https://www.surveymonkey.com/r/HJ2QVKK \nNightly Format \nRound robin in groups of 4 (2 for each div) \nTop 2 from each group will go to semi-final winners of semi-finals to playoff for nightly winner. \nEach night the 2 groups will be changed. \nThe same 4 players will not occur for each of the 7 league nights. \nPlayers will be placed in divisions based on previous leagues and averages. \nPrize Money * Subject to player numbers and Sponsorship. \n1st $400  \n2nd $300  \n3rd $250  \n4th $200  \n5th $100 \nAfter 7 weeks \nHigh Peg = $50 \nMost 100’s = $50 \n1st = $50 \nPlayers and divisions will to be finalised on 30 January 2025
URL:https://dartscanberra.com.au/event/darts-act-singles-league-x-2/
LOCATION:The Burns Club\, 28 Kett St\, Kambah\, ACT\, 2902\, Australia
CATEGORIES:Competition
ATTACH;FMTTYPE=image/png:https://dartscanberra.com.au/wp-content/uploads/2024/10/IMG_4853.png
ORGANIZER;CN="ACT Darts Inc.":MAILTO:dartsact.secretary@gmail.com
END:VEVENT
BEGIN:VEVENT
DTSTART;TZID=Australia/Sydney:20250203T190000
DTEND;TZID=Australia/Sydney:20250203T220000
DTSTAMP:20260424T142213
CREATED:20250102T160505Z
LAST-MODIFIED:20250102T161638Z
UID:1465-1738609200-1738620000@dartscanberra.com.au
SUMMARY:Darts ACT Singles League X
DESCRIPTION:Nominations now open until 30 January 2025 \nStart date:  3 February 2025 – 31 March 2025 – 8 weeks \nWeek off for Public Holiday 10 March \nTime: 7pm for a 7:15pm start Monday Nights @ The Burns Club Kambah \nCost: $150 (Players will need to be a member of DartsACT – $60 for 2025) \nThe competition is open to players of all abilities \nMaximum numbers 32 (8 players each division) \nMessage Ciaran on 0430 372 281 or ciaranholmes@hotmail.com for any questions. \nComplete Survey @ to register https://www.surveymonkey.com/r/HJ2QVKK \nNightly Format \nRound robin in groups of 4 (2 for each div) \nTop 2 from each group will go to semi-final winners of semi-finals to playoff for nightly winner. \nEach night the 2 groups will be changed. \nThe same 4 players will not occur for each of the 7 league nights. \nPlayers will be placed in divisions based on previous leagues and averages. \nPrize Money * Subject to player numbers and Sponsorship. \n1st $400  \n2nd $300  \n3rd $250  \n4th $200  \n5th $100 \nAfter 7 weeks \nHigh Peg = $50 \nMost 100’s = $50 \n1st = $50 \nPlayers and divisions will to be finalised on 30 January 2025
URL:https://dartscanberra.com.au/event/darts-act-singles-league-x/
LOCATION:The Burns Club\, 28 Kett St\, Kambah\, ACT\, 2902\, Australia
CATEGORIES:Competition
ATTACH;FMTTYPE=image/png:https://dartscanberra.com.au/wp-content/uploads/2024/10/IMG_4853.png
ORGANIZER;CN="ACT Darts Inc.":MAILTO:dartsact.secretary@gmail.com
END:VEVENT
BEGIN:VEVENT
DTSTART;TZID=UTC:20241202T190000
DTEND;TZID=UTC:20241202T213000
DTSTAMP:20260424T142213
CREATED:20241019T174250Z
LAST-MODIFIED:20241019T174736Z
UID:934-1733166000-1733175000@dartscanberra.com.au
SUMMARY:Darts ACT Singles League IX (Finals)
DESCRIPTION:ENTRY NOW CLOSED \nMonday Night Singles \nDarts ACT Singles League IX @ The Burns Club\, Kambah \nStart date = 14 October 2024 – 2 December 2024 – 8 weeks Time = 7pm for a 7:15pm start Monday Nights Cost = $150 (Players will need to be a member of DartsACT) The competition is open to players of all abilities Maximum numbers 32 (8 players each division) Message Ciaran on 0430 372 281 or ciaranholmes@hotmail.com for any questions. Complete Survey @ https://www.surveymonkey.com/r/GL8HW78 to register. \nNightly Format \nPlayers and divisions will to be finalised on Monday 15 July 2024 \n\nRound robin in groups of 4 (2 for each div) Best of 5 Legs\nTop 2 from each group will go to semi-final winners of semi-finals to playoff for nightly winner.\nEach night the 2 groups will be changed.\nThe same 4 players will not occur for each of the 7 league nights\nFinals Night 2 December 2024\n3 v 4 best of 9 legs (11 legs in Prem)\n1 v 2 best of 9 legs (11 legs in Prem)\nWinner Game A v Loser Game B best of 9 legs (11 legs in Prem)\nFinal – Winner of B v Winner of C Best of 11 legs (13 legs in Prem)\nPlayers will be placed in divisions based on previous leagues and averages\n\nPrize Money * Subject to player numbers and Sponsorship. \n\n1st $400 After 7 weeks\n2nd $300 High Peg = $50\n3rd $250 Most 100’s = $50\n4th $200 1st = $50\n5th $100\n\nPlayers and divisions will be finalised on 8 October 2024
URL:https://dartscanberra.com.au/event/darts-act-singles-league-ix-finals/
LOCATION:The Burns Club\, 28 Kett St\, Kambah\, ACT\, 2902\, Australia
CATEGORIES:Competition
ATTACH;FMTTYPE=image/png:https://dartscanberra.com.au/wp-content/uploads/2024/10/IMG_4853.png
ORGANIZER;CN="ACT Darts Inc.":MAILTO:dartsact.secretary@gmail.com
END:VEVENT
BEGIN:VEVENT
DTSTART;TZID=UTC:20241125T190000
DTEND;TZID=UTC:20241125T213000
DTSTAMP:20260424T142213
CREATED:20241019T174150Z
LAST-MODIFIED:20241019T192241Z
UID:932-1732561200-1732570200@dartscanberra.com.au
SUMMARY:Darts ACT Singles League IX
DESCRIPTION:ENTRY NOW CLOSED \nMonday Night Singles \nDarts ACT Singles League IX @ The Burns Club\, Kambah \nStart date = 14 October 2024 – 2 December 2024 – 8 weeks Time = 7pm for a 7:15pm start Monday Nights Cost = $150 (Players will need to be a member of DartsACT) The competition is open to players of all abilities Maximum numbers 32 (8 players each division) Message Ciaran on 0430 372 281 or ciaranholmes@hotmail.com for any questions. Complete Survey @ https://www.surveymonkey.com/r/GL8HW78 to register. \nNightly Format \nPlayers and divisions will to be finalised on Monday 15 July 2024 \n\nRound robin in groups of 4 (2 for each div) Best of 5 Legs\nTop 2 from each group will go to semi-final winners of semi-finals to playoff for nightly winner.\nEach night the 2 groups will be changed.\nThe same 4 players will not occur for each of the 7 league nights\nFinals Night 2 December 2024\n3 v 4 best of 9 legs (11 legs in Prem)\n1 v 2 best of 9 legs (11 legs in Prem)\nWinner Game A v Loser Game B best of 9 legs (11 legs in Prem)\nFinal – Winner of B v Winner of C Best of 11 legs (13 legs in Prem)\nPlayers will be placed in divisions based on previous leagues and averages\n\nPrize Money * Subject to player numbers and Sponsorship. \n\n1st $400 After 7 weeks\n2nd $300 High Peg = $50\n3rd $250 Most 100’s = $50\n4th $200 1st = $50\n5th $100\n\nPlayers and divisions will be finalised on 8 October 2024
URL:https://dartscanberra.com.au/event/darts-act-singles-league-ix-semi-finals/
LOCATION:The Burns Club\, 28 Kett St\, Kambah\, ACT\, 2902\, Australia
CATEGORIES:Competition
ATTACH;FMTTYPE=image/png:https://dartscanberra.com.au/wp-content/uploads/2024/10/IMG_4853.png
ORGANIZER;CN="ACT Darts Inc.":MAILTO:dartsact.secretary@gmail.com
END:VEVENT
BEGIN:VEVENT
DTSTART;TZID=UTC:20241118T190000
DTEND;TZID=UTC:20241118T213000
DTSTAMP:20260424T142213
CREATED:20241019T174046Z
LAST-MODIFIED:20241019T192258Z
UID:930-1731956400-1731965400@dartscanberra.com.au
SUMMARY:Darts ACT Singles League IX
DESCRIPTION:ENTRY NOW CLOSED \nMonday Night Singles \nDarts ACT Singles League IX @ The Burns Club\, Kambah \nStart date = 14 October 2024 – 2 December 2024 – 8 weeks Time = 7pm for a 7:15pm start Monday Nights Cost = $150 (Players will need to be a member of DartsACT) The competition is open to players of all abilities Maximum numbers 32 (8 players each division) Message Ciaran on 0430 372 281 or ciaranholmes@hotmail.com for any questions. Complete Survey @ https://www.surveymonkey.com/r/GL8HW78 to register. \nNightly Format \nPlayers and divisions will to be finalised on Monday 15 July 2024 \n\nRound robin in groups of 4 (2 for each div) Best of 5 Legs\nTop 2 from each group will go to semi-final winners of semi-finals to playoff for nightly winner.\nEach night the 2 groups will be changed.\nThe same 4 players will not occur for each of the 7 league nights\nFinals Night 2 December 2024\n3 v 4 best of 9 legs (11 legs in Prem)\n1 v 2 best of 9 legs (11 legs in Prem)\nWinner Game A v Loser Game B best of 9 legs (11 legs in Prem)\nFinal – Winner of B v Winner of C Best of 11 legs (13 legs in Prem)\nPlayers will be placed in divisions based on previous leagues and averages\n\nPrize Money * Subject to player numbers and Sponsorship. \n\n1st $400 After 7 weeks\n2nd $300 High Peg = $50\n3rd $250 Most 100’s = $50\n4th $200 1st = $50\n5th $100\n\nPlayers and divisions will be finalised on 8 October 2024
URL:https://dartscanberra.com.au/event/darts-act-singles-league-ix-quarter-finals/
LOCATION:The Burns Club\, 28 Kett St\, Kambah\, ACT\, 2902\, Australia
CATEGORIES:Competition
ATTACH;FMTTYPE=image/png:https://dartscanberra.com.au/wp-content/uploads/2024/10/IMG_4853.png
ORGANIZER;CN="ACT Darts Inc.":MAILTO:dartsact.secretary@gmail.com
END:VEVENT
BEGIN:VEVENT
DTSTART;TZID=UTC:20241111T190000
DTEND;TZID=UTC:20241111T213000
DTSTAMP:20260424T142213
CREATED:20241019T173829Z
LAST-MODIFIED:20241019T174546Z
UID:926-1731351600-1731360600@dartscanberra.com.au
SUMMARY:Darts ACT Singles League IX
DESCRIPTION:ENTRY NOW CLOSED \nMonday Night Singles \nDarts ACT Singles League IX @ The Burns Club\, Kambah \nStart date = 14 October 2024 – 2 December 2024 – 8 weeks Time = 7pm for a 7:15pm start Monday Nights Cost = $150 (Players will need to be a member of DartsACT) The competition is open to players of all abilities Maximum numbers 32 (8 players each division) Message Ciaran on 0430 372 281 or ciaranholmes@hotmail.com for any questions. Complete Survey @ https://www.surveymonkey.com/r/GL8HW78 to register. \nNightly Format \nPlayers and divisions will to be finalised on Monday 15 July 2024 \n\nRound robin in groups of 4 (2 for each div) Best of 5 Legs\nTop 2 from each group will go to semi-final winners of semi-finals to playoff for nightly winner.\nEach night the 2 groups will be changed.\nThe same 4 players will not occur for each of the 7 league nights\nFinals Night 2 December 2024\n3 v 4 best of 9 legs (11 legs in Prem)\n1 v 2 best of 9 legs (11 legs in Prem)\nWinner Game A v Loser Game B best of 9 legs (11 legs in Prem)\nFinal – Winner of B v Winner of C Best of 11 legs (13 legs in Prem)\nPlayers will be placed in divisions based on previous leagues and averages\n\nPrize Money * Subject to player numbers and Sponsorship. \n\n1st $400 After 7 weeks\n2nd $300 High Peg = $50\n3rd $250 Most 100’s = $50\n4th $200 1st = $50\n5th $100\n\nPlayers and divisions will be finalised on 8 October 2024
URL:https://dartscanberra.com.au/event/darts-act-singles-league-ix-4/
LOCATION:The Burns Club\, 28 Kett St\, Kambah\, ACT\, 2902\, Australia
CATEGORIES:Competition
ATTACH;FMTTYPE=image/png:https://dartscanberra.com.au/wp-content/uploads/2024/10/IMG_4853.png
ORGANIZER;CN="ACT Darts Inc.":MAILTO:dartsact.secretary@gmail.com
END:VEVENT
BEGIN:VEVENT
DTSTART;TZID=UTC:20241104T190000
DTEND;TZID=UTC:20241104T213000
DTSTAMP:20260424T142213
CREATED:20241019T173714Z
LAST-MODIFIED:20241019T174520Z
UID:924-1730746800-1730755800@dartscanberra.com.au
SUMMARY:Darts ACT Singles League IX
DESCRIPTION:ENTRY NOW CLOSED \nMonday Night Singles \nDarts ACT Singles League IX @ The Burns Club\, Kambah \nStart date = 14 October 2024 – 2 December 2024 – 8 weeks Time = 7pm for a 7:15pm start Monday Nights Cost = $150 (Players will need to be a member of DartsACT) The competition is open to players of all abilities Maximum numbers 32 (8 players each division) Message Ciaran on 0430 372 281 or ciaranholmes@hotmail.com for any questions. Complete Survey @ https://www.surveymonkey.com/r/GL8HW78 to register. \nNightly Format \nPlayers and divisions will to be finalised on Monday 15 July 2024 \n\nRound robin in groups of 4 (2 for each div) Best of 5 Legs\nTop 2 from each group will go to semi-final winners of semi-finals to playoff for nightly winner.\nEach night the 2 groups will be changed.\nThe same 4 players will not occur for each of the 7 league nights\nFinals Night 2 December 2024\n3 v 4 best of 9 legs (11 legs in Prem)\n1 v 2 best of 9 legs (11 legs in Prem)\nWinner Game A v Loser Game B best of 9 legs (11 legs in Prem)\nFinal – Winner of B v Winner of C Best of 11 legs (13 legs in Prem)\nPlayers will be placed in divisions based on previous leagues and averages\n\nPrize Money * Subject to player numbers and Sponsorship. \n\n1st $400 After 7 weeks\n2nd $300 High Peg = $50\n3rd $250 Most 100’s = $50\n4th $200 1st = $50\n5th $100\n\nPlayers and divisions will be finalised on 8 October 2024
URL:https://dartscanberra.com.au/event/darts-act-singles-league-ix-3/
LOCATION:The Burns Club\, 28 Kett St\, Kambah\, ACT\, 2902\, Australia
CATEGORIES:Competition
ATTACH;FMTTYPE=image/png:https://dartscanberra.com.au/wp-content/uploads/2024/10/IMG_4853.png
ORGANIZER;CN="ACT Darts Inc.":MAILTO:dartsact.secretary@gmail.com
END:VEVENT
BEGIN:VEVENT
DTSTART;TZID=Australia/Sydney:20241028T190000
DTEND;TZID=Australia/Sydney:20241028T213000
DTSTAMP:20260424T142213
CREATED:20241019T173622Z
LAST-MODIFIED:20241019T174430Z
UID:922-1730142000-1730151000@dartscanberra.com.au
SUMMARY:Darts ACT Singles League IX
DESCRIPTION:ENTRY NOW CLOSED \nMonday Night Singles \nDarts ACT Singles League IX @ The Burns Club\, Kambah \nStart date = 14 October 2024 – 2 December 2024 – 8 weeks Time = 7pm for a 7:15pm start Monday Nights Cost = $150 (Players will need to be a member of DartsACT) The competition is open to players of all abilities Maximum numbers 32 (8 players each division) Message Ciaran on 0430 372 281 or ciaranholmes@hotmail.com for any questions. Complete Survey @ https://www.surveymonkey.com/r/GL8HW78 to register. \nNightly Format \nPlayers and divisions will to be finalised on Monday 15 July 2024 \n\nRound robin in groups of 4 (2 for each div) Best of 5 Legs\nTop 2 from each group will go to semi-final winners of semi-finals to playoff for nightly winner.\nEach night the 2 groups will be changed.\nThe same 4 players will not occur for each of the 7 league nights\nFinals Night 2 December 2024\n3 v 4 best of 9 legs (11 legs in Prem)\n1 v 2 best of 9 legs (11 legs in Prem)\nWinner Game A v Loser Game B best of 9 legs (11 legs in Prem)\nFinal – Winner of B v Winner of C Best of 11 legs (13 legs in Prem)\nPlayers will be placed in divisions based on previous leagues and averages\n\nPrize Money * Subject to player numbers and Sponsorship. \n\n1st $400 After 7 weeks\n2nd $300 High Peg = $50\n3rd $250 Most 100’s = $50\n4th $200 1st = $50\n5th $100\n\nPlayers and divisions will be finalised on 8 October 2024
URL:https://dartscanberra.com.au/event/darts-act-singles-league-ix-2/
LOCATION:The Burns Club\, 28 Kett St\, Kambah\, ACT\, 2902\, Australia
CATEGORIES:Competition
ATTACH;FMTTYPE=image/png:https://dartscanberra.com.au/wp-content/uploads/2024/10/IMG_4853.png
ORGANIZER;CN="ACT Darts Inc.":MAILTO:dartsact.secretary@gmail.com
END:VEVENT
BEGIN:VEVENT
DTSTART;TZID=Australia/Sydney:20241021T190000
DTEND;TZID=Australia/Sydney:20241021T213000
DTSTAMP:20260424T142213
CREATED:20241019T173530Z
LAST-MODIFIED:20241019T174359Z
UID:920-1729537200-1729546200@dartscanberra.com.au
SUMMARY:Darts ACT Singles League IX
DESCRIPTION:ENTRY NOW CLOSED \nMonday Night Singles \nDarts ACT Singles League IX @ The Burns Club\, Kambah \nStart date = 14 October 2024 – 2 December 2024 – 8 weeks Time = 7pm for a 7:15pm start Monday Nights Cost = $150 (Players will need to be a member of DartsACT) The competition is open to players of all abilities Maximum numbers 32 (8 players each division) Message Ciaran on 0430 372 281 or ciaranholmes@hotmail.com for any questions. Complete Survey @ https://www.surveymonkey.com/r/GL8HW78 to register. \nNightly Format \nPlayers and divisions will to be finalised on Monday 15 July 2024 \n\nRound robin in groups of 4 (2 for each div) Best of 5 Legs\nTop 2 from each group will go to semi-final winners of semi-finals to playoff for nightly winner.\nEach night the 2 groups will be changed.\nThe same 4 players will not occur for each of the 7 league nights\nFinals Night 2 December 2024\n3 v 4 best of 9 legs (11 legs in Prem)\n1 v 2 best of 9 legs (11 legs in Prem)\nWinner Game A v Loser Game B best of 9 legs (11 legs in Prem)\nFinal – Winner of B v Winner of C Best of 11 legs (13 legs in Prem)\nPlayers will be placed in divisions based on previous leagues and averages\n\nPrize Money * Subject to player numbers and Sponsorship. \n\n1st $400 After 7 weeks\n2nd $300 High Peg = $50\n3rd $250 Most 100’s = $50\n4th $200 1st = $50\n5th $100\n\nPlayers and divisions will be finalised on 8 October 2024
URL:https://dartscanberra.com.au/event/darts-act-singles-league-ix/
LOCATION:The Burns Club\, 28 Kett St\, Kambah\, ACT\, 2902\, Australia
CATEGORIES:Competition
ATTACH;FMTTYPE=image/png:https://dartscanberra.com.au/wp-content/uploads/2024/10/IMG_4853.png
ORGANIZER;CN="ACT Darts Inc.":MAILTO:dartsact.secretary@gmail.com
END:VEVENT
BEGIN:VEVENT
DTSTART;TZID=Australia/Sydney:20241014T190000
DTEND;TZID=Australia/Sydney:20241014T213000
DTSTAMP:20260424T142213
CREATED:20241019T171827Z
LAST-MODIFIED:20241019T174333Z
UID:908-1728932400-1728941400@dartscanberra.com.au
SUMMARY:Darts ACT Singles League IX
DESCRIPTION:ENTRY NOW CLOSED \nMonday Night Singles \nDarts ACT Singles League IX @ The Burns Club\, Kambah \nStart date = 14 October 2024 – 2 December 2024 – 8 weeks Time = 7pm for a 7:15pm start Monday Nights Cost = $150 (Players will need to be a member of DartsACT) The competition is open to players of all abilities Maximum numbers 32 (8 players each division) Message Ciaran on 0430 372 281 or ciaranholmes@hotmail.com for any questions. Complete Survey @ https://www.surveymonkey.com/r/GL8HW78 to register. \nNightly Format \nPlayers and divisions will to be finalised on Monday 15 July 2024 \n\nRound robin in groups of 4 (2 for each div) Best of 5 Legs\nTop 2 from each group will go to semi-final winners of semi-finals to playoff for nightly winner.\nEach night the 2 groups will be changed.\nThe same 4 players will not occur for each of the 7 league nights\nFinals Night 2 December 2024\n3 v 4 best of 9 legs (11 legs in Prem)\n1 v 2 best of 9 legs (11 legs in Prem)\nWinner Game A v Loser Game B best of 9 legs (11 legs in Prem)\nFinal – Winner of B v Winner of C Best of 11 legs (13 legs in Prem)\nPlayers will be placed in divisions based on previous leagues and averages\n\nPrize Money * Subject to player numbers and Sponsorship. \n\n1st $400 After 7 weeks\n2nd $300 High Peg = $50\n3rd $250 Most 100’s = $50\n4th $200 1st = $50\n5th $100\n\nPlayers and divisions will be finalised on 8 October 2024 \n 
URL:https://dartscanberra.com.au/event/darts-act-singles-league/
LOCATION:The Burns Club\, 28 Kett St\, Kambah\, ACT\, 2902\, Australia
CATEGORIES:Competition
ATTACH;FMTTYPE=image/png:https://dartscanberra.com.au/wp-content/uploads/2024/10/IMG_4853.png
ORGANIZER;CN="ACT Darts Inc.":MAILTO:dartsact.secretary@gmail.com
END:VEVENT
END:VCALENDAR