BEGIN:VCALENDAR
VERSION:2.0
PRODID:-//Darts Canberra - ECPv6.15.20//NONSGML v1.0//EN
CALSCALE:GREGORIAN
METHOD:PUBLISH
X-ORIGINAL-URL:https://dartscanberra.com.au
X-WR-CALDESC:Events for Darts Canberra
REFRESH-INTERVAL;VALUE=DURATION:PT1H
X-Robots-Tag:noindex
X-PUBLISHED-TTL:PT1H
BEGIN:VTIMEZONE
TZID:Australia/Sydney
BEGIN:STANDARD
TZOFFSETFROM:+1100
TZOFFSETTO:+1000
TZNAME:AEST
DTSTART:20230401T160000
END:STANDARD
BEGIN:DAYLIGHT
TZOFFSETFROM:+1000
TZOFFSETTO:+1100
TZNAME:AEDT
DTSTART:20230930T160000
END:DAYLIGHT
BEGIN:STANDARD
TZOFFSETFROM:+1100
TZOFFSETTO:+1000
TZNAME:AEST
DTSTART:20240406T160000
END:STANDARD
BEGIN:DAYLIGHT
TZOFFSETFROM:+1000
TZOFFSETTO:+1100
TZNAME:AEDT
DTSTART:20241005T160000
END:DAYLIGHT
BEGIN:STANDARD
TZOFFSETFROM:+1100
TZOFFSETTO:+1000
TZNAME:AEST
DTSTART:20250405T160000
END:STANDARD
BEGIN:DAYLIGHT
TZOFFSETFROM:+1000
TZOFFSETTO:+1100
TZNAME:AEDT
DTSTART:20251004T160000
END:DAYLIGHT
BEGIN:STANDARD
TZOFFSETFROM:+1100
TZOFFSETTO:+1000
TZNAME:AEST
DTSTART:20260404T160000
END:STANDARD
BEGIN:DAYLIGHT
TZOFFSETFROM:+1000
TZOFFSETTO:+1100
TZNAME:AEDT
DTSTART:20261003T160000
END:DAYLIGHT
END:VTIMEZONE
BEGIN:VEVENT
DTSTART;TZID=Australia/Sydney:20250404T181500
DTEND;TZID=Australia/Sydney:20250404T213000
DTSTAMP:20260424T084836
CREATED:20250330T234947Z
LAST-MODIFIED:20250330T234947Z
UID:1781-1743790500-1743802200@dartscanberra.com.au
SUMMARY:Blind Draw Doubles
DESCRIPTION:🎯 Join Our Blind Draw Doubles Darts Event! 🎯 \n6:15-6:45pm registration for 7:00pm start \nCalling all darts enthusiasts\, whether you’re a seasoned pro or still wondering which end to throw!\nCome and join us for an exciting and slightly unpredictable Blind Draw Doubles event. It’s your chance to team up with fellow players at random and enjoy a thrilling 501 double elimination competition. \nEvent Highlights: \nRandom Team Draws: Get ready to make new friends (or frenemies) as you team up with someone you’ve never met! \nDouble Elimination: Double the chances to stay in the game – because everyone deserves a second chance\, right? \n$10 entry fee per player \nPrizes for Placings: Top teams will be rewarded! Bragging rights included. \nSpecial Awards: Highest peg\, 180s\, mystery peg\, etc. \nSo\, polish up your darts\, practice your aim and join us for a fun-filled\, laughter-packed darts experience. See you there! 🎯
URL:https://dartscanberra.com.au/event/blind-draw-doubles-2-4/
LOCATION:The Austrian Australian Club\, Heard St\, Mawson\, ACT\, 2607\, Australia
CATEGORIES:Social
ATTACH;FMTTYPE=image/jpeg:https://dartscanberra.com.au/wp-content/uploads/2025/03/Blind-Draw-Doubles-e1745206295299.jpg
ORGANIZER;CN="Darts Canberra":MAILTO:info@dartscanberra.com.au
END:VEVENT
BEGIN:VEVENT
DTSTART;TZID=Australia/Sydney:20250307T181500
DTEND;TZID=Australia/Sydney:20250307T213000
DTSTAMP:20260424T084836
CREATED:20250302T111620Z
LAST-MODIFIED:20250302T112408Z
UID:1579-1741371300-1741383000@dartscanberra.com.au
SUMMARY:Blind Draw Doubles
DESCRIPTION:🎯 Join Our Blind Draw Doubles Darts Event! 🎯 \n6:15-6:45pm registration for 7:00pm start \nCalling all darts enthusiasts\, whether you’re a seasoned pro or still wondering which end to throw!\nCome and join us for an exciting and slightly unpredictable Blind Draw Doubles event. It’s your chance to team up with fellow players at random and enjoy a thrilling 501 double elimination competition. \nEvent Highlights: \nRandom Team Draws: Get ready to make new friends (or frenemies) as you team up with someone you’ve never met! \nDouble Elimination: Double the chances to stay in the game – because everyone deserves a second chance\, right? \n$10 entry fee per player \nPrizes for Placings: Top teams will be rewarded! Bragging rights included. \nSpecial Awards: Highest peg\, 180s\, mystery peg\, etc. \nSo\, polish up your darts\, practice your aim and join us for a fun-filled\, laughter-packed darts experience. See you there! 🎯
URL:https://dartscanberra.com.au/event/blind-draw-doubles-2-3/
LOCATION:The Austrian Australian Club\, Heard St\, Mawson\, ACT\, 2607\, Australia
CATEGORIES:Social
ATTACH;FMTTYPE=image/jpeg:https://dartscanberra.com.au/wp-content/uploads/2025/03/Blind-Draw-Doubles-e1745206295299.jpg
ORGANIZER;CN="Darts Canberra":MAILTO:info@dartscanberra.com.au
END:VEVENT
BEGIN:VEVENT
DTSTART;TZID=Australia/Sydney:20250124T183000
DTEND;TZID=Australia/Sydney:20250124T213000
DTSTAMP:20260424T084836
CREATED:20250112T203624Z
LAST-MODIFIED:20250112T204107Z
UID:1492-1737743400-1737754200@dartscanberra.com.au
SUMMARY:Blind Draw Doubles
DESCRIPTION:🎯 Join Our Blind Draw Doubles Darts Event! 🎯 \n6:30-6:45pm registration for 7:00pm start \nCalling all darts enthusiasts\, whether you’re a seasoned pro or still wondering which end to throw!\nCome and join us for an exciting and slightly unpredictable Blind Draw Doubles event. It’s your chance to team up with fellow players at random and enjoy a thrilling 501 double elimination competition. \nEvent Highlights: \nRandom Team Draws: Get ready to make new friends (or frenemies) as you team up with someone you’ve never met! \nDouble Elimination: Double the chances to stay in the game – because everyone deserves a second chance\, right? \n$10 entry fee per player \nPrizes for Placings: Top teams will be rewarded! Bragging rights included. \nSpecial Awards: Highest peg\, 180s\, mystery peg\, etc. \nSo\, polish up your darts\, practice your aim and join us for a fun-filled\, laughter-packed darts experience. See you there! 🎯
URL:https://dartscanberra.com.au/event/blind-draw-doubles-2-2/
LOCATION:The Austrian Australian Club\, Heard St\, Mawson\, ACT\, 2607\, Australia
CATEGORIES:Social
ATTACH;FMTTYPE=application/pdf:https://dartscanberra.com.au/wp-content/uploads/2025/01/Blind-Draw-Doubles.pdf
ORGANIZER;CN="Darts Canberra":MAILTO:info@dartscanberra.com.au
END:VEVENT
BEGIN:VEVENT
DTSTART;TZID=Australia/Sydney:20241206T190000
DTEND;TZID=Australia/Sydney:20241206T230000
DTSTAMP:20260424T084836
CREATED:20241019T194220Z
LAST-MODIFIED:20241117T133927Z
UID:968-1733511600-1733526000@dartscanberra.com.au
SUMMARY:CDDA Presentation Night
DESCRIPTION:
URL:https://dartscanberra.com.au/event/cdda-presentation-night/
LOCATION:Cooma Bowling Club\, 6 Mawson St\, Cooma\, NSW\, 2630\, Australia
CATEGORIES:Social
END:VEVENT
BEGIN:VEVENT
DTSTART;TZID=Australia/Sydney:20241206T190000
DTEND;TZID=Australia/Sydney:20241206T230000
DTSTAMP:20260424T084836
CREATED:20241019T175508Z
LAST-MODIFIED:20241117T133758Z
UID:945-1733511600-1733526000@dartscanberra.com.au
SUMMARY:ACT Darts Inc. Presentation Night
DESCRIPTION:
URL:https://dartscanberra.com.au/event/act-darts-inc-presentation-night/
LOCATION:The Austrian Australian Club\, Heard St\, Mawson\, ACT\, 2607\, Australia
CATEGORIES:Social
ORGANIZER;CN="ACT Darts Inc.":MAILTO:dartsact.secretary@gmail.com
END:VEVENT
BEGIN:VEVENT
DTSTART;TZID=Australia/Sydney:20241129T181500
DTEND;TZID=Australia/Sydney:20241129T213000
DTSTAMP:20260424T084836
CREATED:20241019T180357Z
LAST-MODIFIED:20241119T192249Z
UID:947-1732904100-1732915800@dartscanberra.com.au
SUMMARY:Blind Draw Doubles (LAST EVENT FOR 2024)
DESCRIPTION:🎯 Join Our Blind Draw Doubles Darts Event! 🎯 \n6:15-6:45pm registration for 7:00pm start \nCalling all darts enthusiasts\, whether you’re a seasoned pro or still wondering which end to throw!\nCome and join us for an exciting and slightly unpredictable Blind Draw Doubles event. It’s your chance to team up with fellow players at random and enjoy a thrilling 501 double elimination competition. \nEvent Highlights: \nRandom Team Draws: Get ready to make new friends (or frenemies) as you team up with someone you’ve never met! \nDouble Elimination: Double the chances to stay in the game – because everyone deserves a second chance\, right? \n$10 entry fee per player \nPrizes for Placings: Top teams will be rewarded! Bragging rights included. \nSpecial Awards: Highest peg\, 180s\, mystery peg\, etc. \nSo\, polish up your darts\, practice your aim and join us for a fun-filled\, laughter-packed darts experience. See you there! 🎯
URL:https://dartscanberra.com.au/event/blind-draw-doubles-last-event-for-2024/
LOCATION:The Austrian Australian Club\, Heard St\, Mawson\, ACT\, 2607\, Australia
CATEGORIES:Social
ORGANIZER;CN="Darts Canberra":MAILTO:info@dartscanberra.com.au
END:VEVENT
BEGIN:VEVENT
DTSTART;TZID=Australia/Sydney:20241115T183000
DTEND;TZID=Australia/Sydney:20241115T213000
DTSTAMP:20260424T084836
CREATED:20241015T003018Z
LAST-MODIFIED:20241019T175119Z
UID:897-1731695400-1731706200@dartscanberra.com.au
SUMMARY:Blind Draw Doubles
DESCRIPTION:🎯 Join Our Blind Draw Doubles Darts Event! 🎯 \n6:30-6:45pm registration for 7:00pm start \nCalling all darts enthusiasts\, whether you’re a seasoned pro or still wondering which end to throw!\nCome and join us for an exciting and slightly unpredictable Blind Draw Doubles event. It’s your chance to team up with fellow players at random and enjoy a thrilling 501 double elimination competition. \nEvent Highlights: \nRandom Team Draws: Get ready to make new friends (or frenemies) as you team up with someone you’ve never met! \nDouble Elimination: Double the chances to stay in the game – because everyone deserves a second chance\, right? \n$10 entry fee per player \nPrizes for Placings: Top teams will be rewarded! Bragging rights included. \nSpecial Awards: Highest peg\, 180s\, mystery peg\, etc. \nSo\, polish up your darts\, practice your aim and join us for a fun-filled\, laughter-packed darts experience. See you there! 🎯
URL:https://dartscanberra.com.au/event/897/
LOCATION:The Austrian Australian Club\, Heard St\, Mawson\, ACT\, 2607\, Australia
CATEGORIES:Social
ORGANIZER;CN="Darts Canberra":MAILTO:info@dartscanberra.com.au
END:VEVENT
BEGIN:VEVENT
DTSTART;TZID=Australia/Sydney:20241018T183000
DTEND;TZID=Australia/Sydney:20241018T213000
DTSTAMP:20260424T084836
CREATED:20241015T002158Z
LAST-MODIFIED:20241015T004239Z
UID:876-1729276200-1729287000@dartscanberra.com.au
SUMMARY:Blind Draw Doubles
DESCRIPTION:🎯 Join Our Blind Draw Doubles Darts Event! 🎯 \n6:30-7:00pm registration for 7:15pm start \nCalling all darts enthusiasts\, whether you’re a seasoned pro or still wondering which end to throw!\nCome and join us for an exciting and slightly unpredictable Blind Draw Doubles event. It’s your chance to team up with fellow players at random and enjoy a thrilling 501 double elimination competition. \nEvent Highlights: \nRandom Team Draws: Get ready to make new friends (or frenemies) as you team up with someone you’ve never met! \nDouble Elimination: Double the chances to stay in the game – because everyone deserves a second chance\, right? \n$10 entry fee per player \nPrizes for Placings: Top teams will be rewarded! Bragging rights included. \nSpecial Awards: Highest peg\, 180s\, mystery peg\, and a lucky door prize – because who doesn’t love a little mystery? \nSo\, polish up your darts\, practice your aim and join us for a fun-filled\, laughter-packed darts experience. See you there! 🎯
URL:https://dartscanberra.com.au/event/blind-draw-doubles/
LOCATION:The Austrian Australian Club\, Heard St\, Mawson\, ACT\, 2607\, Australia
CATEGORIES:Social
ORGANIZER;CN="Darts Canberra":MAILTO:info@dartscanberra.com.au
END:VEVENT
END:VCALENDAR