BEGIN:VCALENDAR
VERSION:2.0
PRODID:-//Darts Canberra - ECPv6.15.20//NONSGML v1.0//EN
CALSCALE:GREGORIAN
METHOD:PUBLISH
X-WR-CALNAME:Darts Canberra
X-ORIGINAL-URL:https://dartscanberra.com.au
X-WR-CALDESC:Events for Darts Canberra
REFRESH-INTERVAL;VALUE=DURATION:PT1H
X-Robots-Tag:noindex
X-PUBLISHED-TTL:PT1H
BEGIN:VTIMEZONE
TZID:Australia/Sydney
BEGIN:STANDARD
TZOFFSETFROM:+1100
TZOFFSETTO:+1000
TZNAME:AEST
DTSTART:20250405T160000
END:STANDARD
BEGIN:DAYLIGHT
TZOFFSETFROM:+1000
TZOFFSETTO:+1100
TZNAME:AEDT
DTSTART:20251004T160000
END:DAYLIGHT
BEGIN:STANDARD
TZOFFSETFROM:+1100
TZOFFSETTO:+1000
TZNAME:AEST
DTSTART:20260404T160000
END:STANDARD
BEGIN:DAYLIGHT
TZOFFSETFROM:+1000
TZOFFSETTO:+1100
TZNAME:AEDT
DTSTART:20261003T160000
END:DAYLIGHT
BEGIN:STANDARD
TZOFFSETFROM:+1100
TZOFFSETTO:+1000
TZNAME:AEST
DTSTART:20270403T160000
END:STANDARD
BEGIN:DAYLIGHT
TZOFFSETFROM:+1000
TZOFFSETTO:+1100
TZNAME:AEDT
DTSTART:20271002T160000
END:DAYLIGHT
END:VTIMEZONE
BEGIN:VEVENT
DTSTART;TZID=Australia/Sydney:20260120T170000
DTEND;TZID=Australia/Sydney:20260120T190000
DTSTAMP:20260426T010019
CREATED:20260118T141601Z
LAST-MODIFIED:20260118T141601Z
UID:8700-1768928400-1768935600@dartscanberra.com.au
SUMMARY:Soft Tip Darts Happy Hours
DESCRIPTION:Come and enjoy 2 hours of free play on all VDarts machine games.
URL:https://dartscanberra.com.au/event/soft-tip-darts-happy-hours/
LOCATION:Meet Point House\, 2 Hawker place\, Hawker\, ACT\, 2614\, Australia
CATEGORIES:Social
ATTACH;FMTTYPE=image/png:https://dartscanberra.com.au/wp-content/uploads/2026/01/Brown-and-Yellow-Modern-Blocks-Join-our-Event-Food-and-Hospitality-Static-QR-Code-Promotion-UPshow-Campaign.png
ORGANIZER;CN="Darts Canberra":MAILTO:info@dartscanberra.com.au
END:VEVENT
BEGIN:VEVENT
DTSTART;TZID=Australia/Sydney:20260123T181500
DTEND;TZID=Australia/Sydney:20260123T213000
DTSTAMP:20260426T010019
CREATED:20260118T123348Z
LAST-MODIFIED:20260118T123348Z
UID:8691-1769192100-1769203800@dartscanberra.com.au
SUMMARY:Social Darts - Rotating Doubles
DESCRIPTION:🎯 Join Our Social Rotating Doubles Darts Event! 🎯 \n6:15-6:45pm registration for 7:00pm start \nCalling all darts enthusiasts\, whether you’re a seasoned pro or still wondering which end to throw!\nCome and join us for an exciting and slightly unpredictable Rotating Doubles event. It’s your chance to team up with fellow players at random and enjoy a thrilling 701 doubles competition. \nEvent Highlights: \nRandom Team Draws: Get ready to make new friends (or frenemies) as you team up with someone you’ve never met! \nSet number of rounds so each player has equal playing time. \n$10 entry fee per player \nPrizes for Placings: Top teams will be rewarded! Bragging rights included. \nSpecial Awards: Highest peg\, 180s\, mystery peg – because who doesn’t love a little mystery? \nSo\, polish up your darts\, practice your aim and join us for a fun-filled\, laughter-packed darts experience. See you there! 🎯
URL:https://dartscanberra.com.au/event/social-darts-rotating-doubles/
LOCATION:Lanyon Vikings Club\, 29 Heidelberg St\, Conder\, ACT\, 2906\, Australia
CATEGORIES:Social
ATTACH;FMTTYPE=image/jpeg:https://dartscanberra.com.au/wp-content/uploads/2025/07/IMG_6343-scaled-e1775429960648.jpeg
ORGANIZER;CN="Darts Canberra":MAILTO:info@dartscanberra.com.au
END:VEVENT
BEGIN:VEVENT
DTSTART;TZID=Australia/Sydney:20260206T181500
DTEND;TZID=Australia/Sydney:20260206T213000
DTSTAMP:20260426T010019
CREATED:20260204T135552Z
LAST-MODIFIED:20260204T135552Z
UID:8816-1770401700-1770413400@dartscanberra.com.au
SUMMARY:Social Darts - Rotating Doubles
DESCRIPTION:🎯 Join Our Social Rotating Doubles Darts Event! 🎯 \n6:15-6:45pm registration for 7:00pm start \nCalling all darts enthusiasts\, whether you’re a seasoned pro or still wondering which end to throw!\nCome and join us for an exciting and slightly unpredictable Rotating Doubles event. It’s your chance to team up with fellow players at random and enjoy a thrilling 701 doubles competition. \nEvent Highlights: \nRandom Team Draws: Get ready to make new friends (or frenemies) as you team up with someone you’ve never met! \nSet number of rounds so each player has equal playing time. \n$10 entry fee per player \nPrizes for Placings: Top teams will be rewarded! Bragging rights included. \nSpecial Awards: Highest peg\, 180s\, mystery peg – because who doesn’t love a little mystery? \nSo\, polish up your darts\, practice your aim and join us for a fun-filled\, laughter-packed darts experience. See you there! 🎯
URL:https://dartscanberra.com.au/event/social-darts-rotating-doubles-2/
LOCATION:Lanyon Vikings Club\, 29 Heidelberg St\, Conder\, ACT\, 2906\, Australia
CATEGORIES:Social
ATTACH;FMTTYPE=image/jpeg:https://dartscanberra.com.au/wp-content/uploads/2025/07/IMG_6343-scaled-e1775429960648.jpeg
ORGANIZER;CN="Darts Canberra":MAILTO:info@dartscanberra.com.au
END:VEVENT
BEGIN:VEVENT
DTSTART;TZID=Australia/Sydney:20260220T181500
DTEND;TZID=Australia/Sydney:20260220T213000
DTSTAMP:20260426T010019
CREATED:20260215T165750Z
LAST-MODIFIED:20260405T225947Z
UID:8899-1771611300-1771623000@dartscanberra.com.au
SUMMARY:Social Darts - Rotating Doubles
DESCRIPTION:🎯 Join Our Social Rotating Doubles Darts Event! 🎯 \n6:15-6:45pm registration for 7:00pm start \nCalling all darts enthusiasts\, whether you’re a seasoned pro or still wondering which end to throw!\nCome and join us for an exciting and slightly unpredictable Rotating Doubles event. It’s your chance to team up with fellow players at random and enjoy a thrilling 701 doubles competition. \nEvent Highlights: \nRandom Team Draws: Get ready to make new friends (or frenemies) as you team up with someone you’ve never met! \nSet number of rounds so each player has equal playing time. \n$10 entry fee per player \nPrizes for Placings: Top teams will be rewarded! Bragging rights included. \nSpecial Awards: Highest peg\, 180s\, mystery peg – because who doesn’t love a little mystery? \nSo\, polish up your darts\, practice your aim and join us for a fun-filled\, laughter-packed darts experience. See you there! 🎯
URL:https://dartscanberra.com.au/event/social-darts-rotating-doubles-3/
LOCATION:Lanyon Vikings Club\, 29 Heidelberg St\, Conder\, ACT\, 2906\, Australia
CATEGORIES:Social
ATTACH;FMTTYPE=image/jpeg:https://dartscanberra.com.au/wp-content/uploads/2025/07/IMG_6343-scaled-e1775429960648.jpeg
ORGANIZER;CN="Darts Canberra":MAILTO:info@dartscanberra.com.au
END:VEVENT
BEGIN:VEVENT
DTSTART;TZID=Australia/Sydney:20260412T143000
DTEND;TZID=Australia/Sydney:20260412T180000
DTSTAMP:20260426T010019
CREATED:20260405T230312Z
LAST-MODIFIED:20260405T233840Z
UID:9044-1776004200-1776016800@dartscanberra.com.au
SUMMARY:Sunday Session Singles – Queanbeyan
DESCRIPTION:SUNDAY SESSION SINGLES AT THE TOURIST HOTEL\n$10 BUY IN \nREGO FROM 2:30pm \n1st GAMES AT 3pm SHARP \nFOLLOW QUEANBEYAN SOCIAL DARTS & TOURIST HOTEL ON FACEBOOK FOR THE THEME OF THE MONTH. \nWEAR OR DRESS AS THE THEME FOR HALF PRICE ENTRY FEE. \nTHE THEME WILL BE POSTED ON FACEBOOK ON THE MONDAY PRIOR TO THAT ROUND.
URL:https://dartscanberra.com.au/event/sunday-session-singles-queanbeyan-5/
LOCATION:Tourist Hotel\, 31 Monaro St\, Queanbeyan\, NSW\, 2620\, Australia
CATEGORIES:Social
ATTACH;FMTTYPE=image/jpeg:https://dartscanberra.com.au/wp-content/uploads/2025/07/IMG_6557.jpeg
END:VEVENT
BEGIN:VEVENT
DTSTART;TZID=Australia/Sydney:20260414T170000
DTEND;TZID=Australia/Sydney:20260414T190000
DTSTAMP:20260426T010019
CREATED:20260413T020706Z
LAST-MODIFIED:20260413T022051Z
UID:9062-1776186000-1776193200@dartscanberra.com.au
SUMMARY:Soft Tip Darts - Free Play
DESCRIPTION:Play for fun. Play with friends. Learn a new game \nNever played before? Come learn all about Soft Tip Darts. \nDarts provided or bring your own (soft tip only). \nPhotography & Media \nBy participating in a Darts Canberra event\, players acknowledge that photography and filming may take place during sessions. Images and video\, including those featuring winners\, may be used for promotional and marketing purposes across digital and print channels. \nPlayers who do not wish to be included in media content should notify the organiser prior to or during the event\, and reasonable efforts will be made to accommodate this.
URL:https://dartscanberra.com.au/event/soft-tip-darts-free-play/
LOCATION:Meet Point House\, 2 Hawker place\, Hawker\, ACT\, 2614\, Australia
CATEGORIES:Social
ATTACH;FMTTYPE=image/jpeg:https://dartscanberra.com.au/wp-content/uploads/2026/04/Brown-and-Yellow-Modern-Blocks-Join-our-Event-Food-and-Hospitality-Static-QR-Code-Promotion-UPshow-Campaign.jpg
ORGANIZER;CN="Darts Canberra":MAILTO:info@dartscanberra.com.au
END:VEVENT
BEGIN:VEVENT
DTSTART;TZID=Australia/Sydney:20260417T181500
DTEND;TZID=Australia/Sydney:20260417T213000
DTSTAMP:20260426T010019
CREATED:20260405T230016Z
LAST-MODIFIED:20260416T223041Z
UID:9040-1776449700-1776461400@dartscanberra.com.au
SUMMARY:Social Darts - Rotating Doubles
DESCRIPTION:🎯 Join Our Social Rotating Doubles Darts Event! 🎯 \n6:15-6:45pm registration for 7:00pm start \nCalling all darts enthusiasts\, whether you’re a seasoned pro or still wondering which end to throw!\nCome and join us for an exciting and slightly unpredictable Rotating Doubles event. It’s your chance to team up with fellow players at random and enjoy a thrilling 701 doubles competition. \nEvent Highlights: \nRandom Team Draws: Get ready to make new friends (or frenemies) as you team up with someone you’ve never met! \nSet number of rounds so each player has equal playing time. \n$10 entry fee per player \nPrizes for Placings: Top teams will be rewarded! Bragging rights included. \nSpecial Awards: Highest peg\, 180s\, mystery peg – because who doesn’t love a little mystery? \nSo\, polish up your darts\, practice your aim and join us for a fun-filled\, laughter-packed darts experience. See you there! 🎯 \nPhotography & Media \nBy participating in a Darts Canberra event\, players acknowledge that photography and filming may take place during sessions. Images and video\, including those featuring winners\, may be used for promotional and marketing purposes across digital and print channels. \nPlayers who do not wish to be included in media content should notify the organiser prior to or during the event\, and reasonable efforts will be made to accommodate this.
URL:https://dartscanberra.com.au/event/social-darts-rotating-doubles-4/
LOCATION:Lanyon Vikings Club\, 29 Heidelberg St\, Conder\, ACT\, 2906\, Australia
CATEGORIES:Social
ATTACH;FMTTYPE=image/jpeg:https://dartscanberra.com.au/wp-content/uploads/2025/07/IMG_6343-scaled-e1775429960648.jpeg
ORGANIZER;CN="Darts Canberra":MAILTO:info@dartscanberra.com.au
END:VEVENT
BEGIN:VEVENT
DTSTART;TZID=Australia/Sydney:20260421T170000
DTEND;TZID=Australia/Sydney:20260421T190000
DTSTAMP:20260426T010019
CREATED:20260420T093747Z
LAST-MODIFIED:20260420T093747Z
UID:9089-1776790800-1776798000@dartscanberra.com.au
SUMMARY:Soft Tip Darts - Free Play
DESCRIPTION:Play for fun. Play with friends. Learn a new game \nNever played before? Come learn all about Soft Tip Darts. \nDarts provided or bring your own (soft tip only).
URL:https://dartscanberra.com.au/event/soft-tip-darts-free-play-2/
LOCATION:Meet Point House\, 2 Hawker place\, Hawker\, ACT\, 2614\, Australia
CATEGORIES:Social
ATTACH;FMTTYPE=image/jpeg:https://dartscanberra.com.au/wp-content/uploads/2026/04/Brown-and-Yellow-Modern-Blocks-Join-our-Event-Food-and-Hospitality-Static-QR-Code-Promotion-UPshow-Campaign.jpg
ORGANIZER;CN="Darts Canberra":MAILTO:info@dartscanberra.com.au
END:VEVENT
BEGIN:VEVENT
DTSTART;TZID=Australia/Sydney:20260503T143000
DTEND;TZID=Australia/Sydney:20260503T180000
DTSTAMP:20260426T010019
CREATED:20260405T230846Z
LAST-MODIFIED:20260405T233814Z
UID:9046-1777818600-1777831200@dartscanberra.com.au
SUMMARY:Sunday Session Singles – Queanbeyan
DESCRIPTION:SUNDAY SESSION SINGLES AT THE TOURIST HOTEL\n$10 BUY IN \nREGO FROM 2:30pm \n1st GAMES AT 3pm SHARP \nFOLLOW QUEANBEYAN SOCIAL DARTS & TOURIST HOTEL ON FACEBOOK FOR THE THEME OF THE MONTH. \nWEAR OR DRESS AS THE THEME FOR HALF PRICE ENTRY FEE. \nTHE THEME WILL BE POSTED ON FACEBOOK ON THE MONDAY PRIOR TO THAT ROUND.
URL:https://dartscanberra.com.au/event/sunday-session-singles-queanbeyan-6/
LOCATION:Tourist Hotel\, 31 Monaro St\, Queanbeyan\, NSW\, 2620\, Australia
CATEGORIES:Social
ATTACH;FMTTYPE=image/jpeg:https://dartscanberra.com.au/wp-content/uploads/2025/07/IMG_6557.jpeg
END:VEVENT
BEGIN:VEVENT
DTSTART;TZID=Australia/Sydney:20260607T143000
DTEND;TZID=Australia/Sydney:20260607T180000
DTSTAMP:20260426T010019
CREATED:20260405T231004Z
LAST-MODIFIED:20260405T233746Z
UID:9048-1780842600-1780855200@dartscanberra.com.au
SUMMARY:Sunday Session Singles – Queanbeyan
DESCRIPTION:SUNDAY SESSION SINGLES AT THE TOURIST HOTEL\n$10 BUY IN \nREGO FROM 2:30pm \n1st GAMES AT 3pm SHARP \nFOLLOW QUEANBEYAN SOCIAL DARTS & TOURIST HOTEL ON FACEBOOK FOR THE THEME OF THE MONTH. \nWEAR OR DRESS AS THE THEME FOR HALF PRICE ENTRY FEE. \nTHE THEME WILL BE POSTED ON FACEBOOK ON THE MONDAY PRIOR TO THAT ROUND.
URL:https://dartscanberra.com.au/event/sunday-session-singles-queanbeyan-7/
LOCATION:Tourist Hotel\, 31 Monaro St\, Queanbeyan\, NSW\, 2620\, Australia
CATEGORIES:Social
ATTACH;FMTTYPE=image/jpeg:https://dartscanberra.com.au/wp-content/uploads/2025/07/IMG_6557.jpeg
END:VEVENT
BEGIN:VEVENT
DTSTART;TZID=Australia/Sydney:20260705T143000
DTEND;TZID=Australia/Sydney:20260705T180000
DTSTAMP:20260426T010019
CREATED:20260405T231127Z
LAST-MODIFIED:20260405T233722Z
UID:9050-1783261800-1783274400@dartscanberra.com.au
SUMMARY:Sunday Session Singles – Queanbeyan
DESCRIPTION:SUNDAY SESSION SINGLES AT THE TOURIST HOTEL\n$10 BUY IN \nREGO FROM 2:30pm \n1st GAMES AT 3pm SHARP \nFOLLOW QUEANBEYAN SOCIAL DARTS & TOURIST HOTEL ON FACEBOOK FOR THE THEME OF THE MONTH. \nWEAR OR DRESS AS THE THEME FOR HALF PRICE ENTRY FEE. \nTHE THEME WILL BE POSTED ON FACEBOOK ON THE MONDAY PRIOR TO THAT ROUND.
URL:https://dartscanberra.com.au/event/sunday-session-singles-queanbeyan-8/
LOCATION:Tourist Hotel\, 31 Monaro St\, Queanbeyan\, NSW\, 2620\, Australia
CATEGORIES:Social
ATTACH;FMTTYPE=image/jpeg:https://dartscanberra.com.au/wp-content/uploads/2025/07/IMG_6557.jpeg
END:VEVENT
BEGIN:VEVENT
DTSTART;TZID=Australia/Sydney:20260802T143000
DTEND;TZID=Australia/Sydney:20260802T180000
DTSTAMP:20260426T010019
CREATED:20260405T231240Z
LAST-MODIFIED:20260405T233615Z
UID:9052-1785681000-1785693600@dartscanberra.com.au
SUMMARY:Sunday Session Singles – Queanbeyan
DESCRIPTION:SUNDAY SESSION SINGLES AT THE TOURIST HOTEL\n$10 BUY IN \nREGO FROM 2:30pm \n1st GAMES AT 3pm SHARP \nFOLLOW QUEANBEYAN SOCIAL DARTS & TOURIST HOTEL ON FACEBOOK FOR THE THEME OF THE MONTH. \nWEAR OR DRESS AS THE THEME FOR HALF PRICE ENTRY FEE. \nTHE THEME WILL BE POSTED ON FACEBOOK ON THE MONDAY PRIOR TO THAT ROUND.
URL:https://dartscanberra.com.au/event/sunday-session-singles-queanbeyan-9/
LOCATION:Tourist Hotel\, 31 Monaro St\, Queanbeyan\, NSW\, 2620\, Australia
CATEGORIES:Social
ATTACH;FMTTYPE=image/jpeg:https://dartscanberra.com.au/wp-content/uploads/2025/07/IMG_6557.jpeg
END:VEVENT
BEGIN:VEVENT
DTSTART;TZID=Australia/Sydney:20260906T080000
DTEND;TZID=Australia/Sydney:20260906T170000
DTSTAMP:20260426T010019
CREATED:20260405T231450Z
LAST-MODIFIED:20260405T233550Z
UID:9054-1788681600-1788714000@dartscanberra.com.au
SUMMARY:Sunday Session Singles – Queanbeyan
DESCRIPTION:SUNDAY SESSION SINGLES AT THE TOURIST HOTEL\n$10 BUY IN \nREGO FROM 2:30pm \n1st GAMES AT 3pm SHARP \nFOLLOW QUEANBEYAN SOCIAL DARTS & TOURIST HOTEL ON FACEBOOK FOR THE THEME OF THE MONTH. \nWEAR OR DRESS AS THE THEME FOR HALF PRICE ENTRY FEE. \nTHE THEME WILL BE POSTED ON FACEBOOK ON THE MONDAY PRIOR TO THAT ROUND.
URL:https://dartscanberra.com.au/event/sunday-session-singles-queanbeyan-10/
LOCATION:Tourist Hotel\, 31 Monaro St\, Queanbeyan\, NSW\, 2620\, Australia
CATEGORIES:Social
ATTACH;FMTTYPE=image/jpeg:https://dartscanberra.com.au/wp-content/uploads/2025/07/IMG_6557.jpeg
END:VEVENT
BEGIN:VEVENT
DTSTART;TZID=Australia/Sydney:20261004T143000
DTEND;TZID=Australia/Sydney:20261004T180000
DTSTAMP:20260426T010019
CREATED:20260405T231731Z
LAST-MODIFIED:20260405T233526Z
UID:9056-1791124200-1791136800@dartscanberra.com.au
SUMMARY:Sunday Session Singles – Queanbeyan
DESCRIPTION:SUNDAY SESSION SINGLES AT THE TOURIST HOTEL\n$10 BUY IN \nREGO FROM 2:30pm \n1st GAMES AT 3pm SHARP \nFOLLOW QUEANBEYAN SOCIAL DARTS & TOURIST HOTEL ON FACEBOOK FOR THE THEME OF THE MONTH. \nWEAR OR DRESS AS THE THEME FOR HALF PRICE ENTRY FEE. \nTHE THEME WILL BE POSTED ON FACEBOOK ON THE MONDAY PRIOR TO THAT ROUND.
URL:https://dartscanberra.com.au/event/sunday-session-singles-queanbeyan-11/
LOCATION:Tourist Hotel\, 31 Monaro St\, Queanbeyan\, NSW\, 2620\, Australia
CATEGORIES:Social
ATTACH;FMTTYPE=image/jpeg:https://dartscanberra.com.au/wp-content/uploads/2025/07/IMG_6557.jpeg
END:VEVENT
BEGIN:VEVENT
DTSTART;TZID=Australia/Sydney:20261101T143000
DTEND;TZID=Australia/Sydney:20261101T180000
DTSTAMP:20260426T010019
CREATED:20260405T231840Z
LAST-MODIFIED:20260405T233505Z
UID:9058-1793543400-1793556000@dartscanberra.com.au
SUMMARY:Sunday Session Singles – Queanbeyan
DESCRIPTION:SUNDAY SESSION SINGLES AT THE TOURIST HOTEL\n$10 BUY IN \nREGO FROM 2:30pm \n1st GAMES AT 3pm SHARP \nFOLLOW QUEANBEYAN SOCIAL DARTS & TOURIST HOTEL ON FACEBOOK FOR THE THEME OF THE MONTH. \nWEAR OR DRESS AS THE THEME FOR HALF PRICE ENTRY FEE. \nTHE THEME WILL BE POSTED ON FACEBOOK ON THE MONDAY PRIOR TO THAT ROUND.
URL:https://dartscanberra.com.au/event/sunday-session-singles-queanbeyan-12/
LOCATION:Tourist Hotel\, 31 Monaro St\, Queanbeyan\, NSW\, 2620\, Australia
CATEGORIES:Social
ATTACH;FMTTYPE=image/jpeg:https://dartscanberra.com.au/wp-content/uploads/2025/07/IMG_6557.jpeg
END:VEVENT
BEGIN:VEVENT
DTSTART;TZID=Australia/Sydney:20261206T143000
DTEND;TZID=Australia/Sydney:20261206T180000
DTSTAMP:20260426T010019
CREATED:20260405T231956Z
LAST-MODIFIED:20260405T233444Z
UID:9060-1796567400-1796580000@dartscanberra.com.au
SUMMARY:Sunday Session Singles – Queanbeyan
DESCRIPTION:SUNDAY SESSION SINGLES AT THE TOURIST HOTEL\n$10 BUY IN \nREGO FROM 2:30pm \n1st GAMES AT 3pm SHARP \nFOLLOW QUEANBEYAN SOCIAL DARTS & TOURIST HOTEL ON FACEBOOK FOR THE THEME OF THE MONTH. \nWEAR OR DRESS AS THE THEME FOR HALF PRICE ENTRY FEE. \nTHE THEME WILL BE POSTED ON FACEBOOK ON THE MONDAY PRIOR TO THAT ROUND.
URL:https://dartscanberra.com.au/event/sunday-session-singles-queanbeyan-13/
LOCATION:Tourist Hotel\, 31 Monaro St\, Queanbeyan\, NSW\, 2620\, Australia
CATEGORIES:Social
ATTACH;FMTTYPE=image/jpeg:https://dartscanberra.com.au/wp-content/uploads/2025/07/IMG_6557.jpeg
END:VEVENT
END:VCALENDAR