BEGIN:VCALENDAR
VERSION:2.0
PRODID:-//Darts Canberra - ECPv6.15.20//NONSGML v1.0//EN
CALSCALE:GREGORIAN
METHOD:PUBLISH
X-ORIGINAL-URL:https://dartscanberra.com.au
X-WR-CALDESC:Events for Darts Canberra
REFRESH-INTERVAL;VALUE=DURATION:PT1H
X-Robots-Tag:noindex
X-PUBLISHED-TTL:PT1H
BEGIN:VTIMEZONE
TZID:Australia/Sydney
BEGIN:STANDARD
TZOFFSETFROM:+1100
TZOFFSETTO:+1000
TZNAME:AEST
DTSTART:20230401T160000
END:STANDARD
BEGIN:DAYLIGHT
TZOFFSETFROM:+1000
TZOFFSETTO:+1100
TZNAME:AEDT
DTSTART:20230930T160000
END:DAYLIGHT
BEGIN:STANDARD
TZOFFSETFROM:+1100
TZOFFSETTO:+1000
TZNAME:AEST
DTSTART:20240406T160000
END:STANDARD
BEGIN:DAYLIGHT
TZOFFSETFROM:+1000
TZOFFSETTO:+1100
TZNAME:AEDT
DTSTART:20241005T160000
END:DAYLIGHT
BEGIN:STANDARD
TZOFFSETFROM:+1100
TZOFFSETTO:+1000
TZNAME:AEST
DTSTART:20250405T160000
END:STANDARD
BEGIN:DAYLIGHT
TZOFFSETFROM:+1000
TZOFFSETTO:+1100
TZNAME:AEDT
DTSTART:20251004T160000
END:DAYLIGHT
END:VTIMEZONE
BEGIN:VEVENT
DTSTART;TZID=Australia/Sydney:20240824T100000
DTEND;TZID=Australia/Sydney:20240824T180000
DTSTAMP:20260425T120340
CREATED:20241012T195026Z
LAST-MODIFIED:20241012T195328Z
UID:826-1724493600-1724522400@dartscanberra.com.au
SUMMARY:Marie Banks Canberra Open
DESCRIPTION:Marie Banks Canberra Open \nDarts ACT would like to welcome all players to the Marie Banks Canberra Open. \nEligibility\nOpen to players from Canberra & surrounding regions. \nEntry Fee\n$25 \nTotal Prize Pool – $1000\nMen – $700\nLadies – $300 \nMen\nWinner – $300 + Trophy\nRunner-up – $150\nSemi Finalist – $65\nTop 8 Losers – $30 \nLadies\nWinner – $150 + Trophy\nRunner-up – $70\nSemi Finalist – $40 \nVenue Information\nCanberra Southern Cross Club Woden \nRegistration\nOpens at 9:30am and closes at 10:00am – Play to commence at the conclusion of the draw. \nDress Rules\nCollared Shirt & Enclosed Shoes \nDartConnect will be used for this event \nPlease Note\nEvents may be subject to cancellation due to covid restrictions as per the direction from ACT Health.
URL:https://dartscanberra.com.au/event/marie-banks-canberra-open/
LOCATION:Canberra Southern Cross Club\, 92-96 Corrina St\, Phillip\, ACT\, 2607\, Australia
CATEGORIES:Tournament
ATTACH;FMTTYPE=image/jpeg:https://dartscanberra.com.au/wp-content/uploads/2024/09/Image-6.jpeg
ORGANIZER;CN="ACT Darts Inc.":MAILTO:dartsact.secretary@gmail.com
END:VEVENT
END:VCALENDAR