BEGIN:VCALENDAR
VERSION:2.0
PRODID:-//Darts Canberra - ECPv6.15.20//NONSGML v1.0//EN
CALSCALE:GREGORIAN
METHOD:PUBLISH
X-ORIGINAL-URL:https://dartscanberra.com.au
X-WR-CALDESC:Events for Darts Canberra
REFRESH-INTERVAL;VALUE=DURATION:PT1H
X-Robots-Tag:noindex
X-PUBLISHED-TTL:PT1H
BEGIN:VTIMEZONE
TZID:Australia/Sydney
BEGIN:STANDARD
TZOFFSETFROM:+1100
TZOFFSETTO:+1000
TZNAME:AEST
DTSTART:20230401T160000
END:STANDARD
BEGIN:DAYLIGHT
TZOFFSETFROM:+1000
TZOFFSETTO:+1100
TZNAME:AEDT
DTSTART:20230930T160000
END:DAYLIGHT
BEGIN:STANDARD
TZOFFSETFROM:+1100
TZOFFSETTO:+1000
TZNAME:AEST
DTSTART:20240406T160000
END:STANDARD
BEGIN:DAYLIGHT
TZOFFSETFROM:+1000
TZOFFSETTO:+1100
TZNAME:AEDT
DTSTART:20241005T160000
END:DAYLIGHT
BEGIN:STANDARD
TZOFFSETFROM:+1100
TZOFFSETTO:+1000
TZNAME:AEST
DTSTART:20250405T160000
END:STANDARD
BEGIN:DAYLIGHT
TZOFFSETFROM:+1000
TZOFFSETTO:+1100
TZNAME:AEDT
DTSTART:20251004T160000
END:DAYLIGHT
END:VTIMEZONE
BEGIN:VEVENT
DTSTART;TZID=Australia/Sydney:20240914T100000
DTEND;TZID=Australia/Sydney:20240914T180000
DTSTAMP:20260425T120506
CREATED:20241012T195559Z
LAST-MODIFIED:20241012T195559Z
UID:830-1726308000-1726336800@dartscanberra.com.au
SUMMARY:Leigh Beswick Memorial Open
DESCRIPTION:Leigh Beswick Memorial Open\nDarts ACT would like to welcome all players to register for the Leigh Beswick Memorial Open event. \nPrize Money\nTBA \nEvent Fee\n$25 \nNote – The format will depend on the number of registrations received. \nRegistration\nOpens at 10:00am and closes at 10:30am and play will commence at the conclusion of the draw. \nDress Rules\nPlayers must wear a collared shirt and enclosed shoes. Dress pants are not required as this is a Darts ACT event and not a category 1 event. \nPlease Note\nEvents may be subject to cancellation due to covid restrictions as per the direction from ACT Health. \nDartConnect will be used at this event
URL:https://dartscanberra.com.au/event/leigh-beswick-memorial-open/
LOCATION:Canberra Southern Cross Club\, 92-96 Corrina St\, Phillip\, ACT\, 2607\, Australia
CATEGORIES:Tournament
ATTACH;FMTTYPE=image/jpeg:https://dartscanberra.com.au/wp-content/uploads/2024/09/IMG_3918.jpeg
ORGANIZER;CN="ACT Darts Inc.":MAILTO:dartsact.secretary@gmail.com
END:VEVENT
END:VCALENDAR