BEGIN:VCALENDAR
VERSION:2.0
PRODID:-//Darts Canberra - ECPv6.15.20//NONSGML v1.0//EN
CALSCALE:GREGORIAN
METHOD:PUBLISH
X-WR-CALNAME:Darts Canberra
X-ORIGINAL-URL:https://dartscanberra.com.au
X-WR-CALDESC:Events for Darts Canberra
REFRESH-INTERVAL;VALUE=DURATION:PT1H
X-Robots-Tag:noindex
X-PUBLISHED-TTL:PT1H
BEGIN:VTIMEZONE
TZID:Australia/Sydney
BEGIN:STANDARD
TZOFFSETFROM:+1100
TZOFFSETTO:+1000
TZNAME:AEST
DTSTART:20230401T160000
END:STANDARD
BEGIN:DAYLIGHT
TZOFFSETFROM:+1000
TZOFFSETTO:+1100
TZNAME:AEDT
DTSTART:20230930T160000
END:DAYLIGHT
BEGIN:STANDARD
TZOFFSETFROM:+1100
TZOFFSETTO:+1000
TZNAME:AEST
DTSTART:20240406T160000
END:STANDARD
BEGIN:DAYLIGHT
TZOFFSETFROM:+1000
TZOFFSETTO:+1100
TZNAME:AEDT
DTSTART:20241005T160000
END:DAYLIGHT
BEGIN:STANDARD
TZOFFSETFROM:+1100
TZOFFSETTO:+1000
TZNAME:AEST
DTSTART:20250405T160000
END:STANDARD
BEGIN:DAYLIGHT
TZOFFSETFROM:+1000
TZOFFSETTO:+1100
TZNAME:AEDT
DTSTART:20251004T160000
END:DAYLIGHT
END:VTIMEZONE
BEGIN:VEVENT
DTSTART;TZID=Australia/Sydney:20241124T093000
DTEND;TZID=Australia/Sydney:20241124T143000
DTSTAMP:20260425T074006
CREATED:20241107T212857Z
LAST-MODIFIED:20241122T133645Z
UID:1196-1732440600-1732458600@dartscanberra.com.au
SUMMARY:Darts Canberra Grand Prix I
DESCRIPTION:Join Darts Canberra for their 1st Annual Grand Prix event* \nMaximum 16 players (pre paid only). Must be registered by 8pm Friday 22/11/24 \nEntry Fee: $20 per player \n9:30am to 9:45am check in for 10:00am start. \n*This will be a handicap system on the day based on your Dartconnect players card. Please have details available on the day for check in. \nRound Robin (4 groups of 4) \n501 Double In/Double Out \nBest of 3 \n(Top 2 in each group to progress) \nQ/F Knockout (top 8) \n501 Double In/Double Out \nBest of 3 \nS/F Knockout (top 4) \n501 Double In/Double Out \nBest of 5 (dependant on time restrictions) \nFinal \n501 Double In/Double Out \nBest of 5 (dependant on time restrictions) \n*DartConnect scoring \nPrizes to be confirmed
URL:https://dartscanberra.com.au/event/darts-canberra-grand-prix-2/
LOCATION:The Austrian Australian Club\, Heard St\, Mawson\, ACT\, 2607\, Australia
CATEGORIES:Tournament
ATTACH;FMTTYPE=image/png:https://dartscanberra.com.au/wp-content/uploads/2024/11/Grand-Prix-I-e1731054451147.png
ORGANIZER;CN="Darts Canberra":MAILTO:info@dartscanberra.com.au
END:VEVENT
END:VCALENDAR