BEGIN:VCALENDAR
VERSION:2.0
PRODID:-//Darts Canberra - ECPv6.15.20//NONSGML v1.0//EN
CALSCALE:GREGORIAN
METHOD:PUBLISH
X-ORIGINAL-URL:https://dartscanberra.com.au
X-WR-CALDESC:Events for Darts Canberra
REFRESH-INTERVAL;VALUE=DURATION:PT1H
X-Robots-Tag:noindex
X-PUBLISHED-TTL:PT1H
BEGIN:VTIMEZONE
TZID:Australia/Sydney
BEGIN:STANDARD
TZOFFSETFROM:+1100
TZOFFSETTO:+1000
TZNAME:AEST
DTSTART:20250405T160000
END:STANDARD
BEGIN:DAYLIGHT
TZOFFSETFROM:+1000
TZOFFSETTO:+1100
TZNAME:AEDT
DTSTART:20251004T160000
END:DAYLIGHT
BEGIN:STANDARD
TZOFFSETFROM:+1100
TZOFFSETTO:+1000
TZNAME:AEST
DTSTART:20260404T160000
END:STANDARD
BEGIN:DAYLIGHT
TZOFFSETFROM:+1000
TZOFFSETTO:+1100
TZNAME:AEDT
DTSTART:20261003T160000
END:DAYLIGHT
BEGIN:STANDARD
TZOFFSETFROM:+1100
TZOFFSETTO:+1000
TZNAME:AEST
DTSTART:20270403T160000
END:STANDARD
BEGIN:DAYLIGHT
TZOFFSETFROM:+1000
TZOFFSETTO:+1100
TZNAME:AEDT
DTSTART:20271002T160000
END:DAYLIGHT
END:VTIMEZONE
BEGIN:VEVENT
DTSTART;TZID=Australia/Sydney:20260614T100000
DTEND;TZID=Australia/Sydney:20260614T170000
DTSTAMP:20260424T053833
CREATED:20260421T024258Z
LAST-MODIFIED:20260421T024258Z
UID:9109-1781431200-1781456400@dartscanberra.com.au
SUMMARY:ACT State Closed Singles 2026
DESCRIPTION:ACT State Singles \nEligibility\nThis is a closed event and is only open to players who are full members of Darts ACT including Monday night League \nCost\nThere is no cost for this event. \nRegistration\nRegistration opens at 10.00am and closes at 10:30am \nThis is a Darts Australia sanctioned event. Dress rules are enforced and players must adhere to the rules\, otherwise entry may be refused. \nDress Rules\nDress Pants\, Collared Shirt and Enclosed Shoes. \nSTRICTLY NO DENIM \nState Representative Requirement\nIt is now a requirement that all players who have been selected to represent the ACT at the next Australian Championships\, must wear their state playing attire. If players have never represented the ACT previously and have not yet received their shirts\, this does not apply to those players. Standard DA dress rules apply otherwise. \nDartConnect will be used at this event \nPhotography & Media \nBy entering a Darts ACT event\, players acknowledge that photography and filming may take place during sessions. Images and video\, including those featuring winners\, may be used for promotional and marketing purposes across digital and print channels. \nPlayers who do not wish to be included in media content should notify the organiser prior to or during the event\, and reasonable efforts will be made to accommodate this.
URL:https://dartscanberra.com.au/event/act-state-closed-singles-2026/
LOCATION:The Burns Club\, 28 Kett St\, Kambah\, ACT\, 2902\, Australia
CATEGORIES:Tournament
ATTACH;FMTTYPE=image/png:https://dartscanberra.com.au/wp-content/uploads/2024/09/IMG_4107.png
ORGANIZER;CN="ACT Darts Inc.":MAILTO:dartsact.secretary@gmail.com
END:VEVENT
END:VCALENDAR