BEGIN:VCALENDAR
VERSION:2.0
PRODID:-//Darts Canberra - ECPv6.15.20//NONSGML v1.0//EN
CALSCALE:GREGORIAN
METHOD:PUBLISH
X-WR-CALNAME:Darts Canberra
X-ORIGINAL-URL:https://dartscanberra.com.au
X-WR-CALDESC:Events for Darts Canberra
REFRESH-INTERVAL;VALUE=DURATION:PT1H
X-Robots-Tag:noindex
X-PUBLISHED-TTL:PT1H
BEGIN:VTIMEZONE
TZID:Australia/Sydney
BEGIN:STANDARD
TZOFFSETFROM:+1100
TZOFFSETTO:+1000
TZNAME:AEST
DTSTART:20230401T160000
END:STANDARD
BEGIN:DAYLIGHT
TZOFFSETFROM:+1000
TZOFFSETTO:+1100
TZNAME:AEDT
DTSTART:20230930T160000
END:DAYLIGHT
BEGIN:STANDARD
TZOFFSETFROM:+1100
TZOFFSETTO:+1000
TZNAME:AEST
DTSTART:20240406T160000
END:STANDARD
BEGIN:DAYLIGHT
TZOFFSETFROM:+1000
TZOFFSETTO:+1100
TZNAME:AEDT
DTSTART:20241005T160000
END:DAYLIGHT
BEGIN:STANDARD
TZOFFSETFROM:+1100
TZOFFSETTO:+1000
TZNAME:AEST
DTSTART:20250405T160000
END:STANDARD
BEGIN:DAYLIGHT
TZOFFSETFROM:+1000
TZOFFSETTO:+1100
TZNAME:AEDT
DTSTART:20251004T160000
END:DAYLIGHT
END:VTIMEZONE
BEGIN:VTIMEZONE
TZID:UTC
BEGIN:STANDARD
TZOFFSETFROM:+0000
TZOFFSETTO:+0000
TZNAME:UTC
DTSTART:20230101T000000
END:STANDARD
END:VTIMEZONE
BEGIN:VEVENT
DTSTART;TZID=Australia/Sydney:20240718T190000
DTEND;TZID=Australia/Sydney:20240718T200000
DTSTAMP:20260426T010333
CREATED:20241012T194842Z
LAST-MODIFIED:20241012T195250Z
UID:824-1721329200-1721332800@dartscanberra.com.au
SUMMARY:Winter Comp 2024 Captain's Meeting
DESCRIPTION:Prior to kicking off our next season we will have a Captains Meeting on Thursday 18th July at Burns Club. 7.00 pm if captains are unable to attend then they must send a representative. \nWe hope to kick off the new season on the following Wednesday\, 24th July. \nClick here for a rego form https://shout.com/s/BvfejPp2
URL:https://dartscanberra.com.au/event/winter-comp-2024-captains-meeting/
LOCATION:The Burns Club\, 28 Kett St\, Kambah\, ACT\, 2902\, Australia
CATEGORIES:Meeting
ATTACH;FMTTYPE=image/jpeg:https://dartscanberra.com.au/wp-content/uploads/2024/09/Carbon-1.jpeg
ORGANIZER;CN="ACT Darts Inc.":MAILTO:dartsact.secretary@gmail.com
END:VEVENT
BEGIN:VEVENT
DTSTART;TZID=UTC:20240714T100000
DTEND;TZID=UTC:20240714T180000
DTSTAMP:20260426T010333
CREATED:20241012T194515Z
LAST-MODIFIED:20241012T194515Z
UID:822-1720951200-1720980000@dartscanberra.com.au
SUMMARY:Brindabella Classic Open
DESCRIPTION:Brindabella Classic Open\nDarts ACT would like to welcome all players to register for the Brindabella Classic. \nThis is a Darts Australia event and you are playing for DA ranking points. Depending on the number of entries received\, prize money may be offered\, but not guaranteed. \nEligibility\nYou must be a current Darts Australia member. This means you must have full or associate membership with Darts ACT\, or have membership to another official group affiliated with Darts Australia. \nIf you do not\, then you will be required to join on the day. Please see tournament controller on the day to complete a membership form and to make payment of membership fee’s that become due and payable. \nPlayers may be asked to provide proof that they have a valid membership. \nEvent Fee\n$25 \nNote – The format will depend on the number of registrations received. \nRegistration\nOpens at 10.00am and closes at 10:30am and play will commence at the conclusion of the draw. \nThis is a Darts Australia sanctioned event. Dress rules are enforced and players must adhere to the rules\, otherwise entry may be refused. \nDress Rules\nDress Pants\, Collared Shirt and Enclosed Shoes. \nSTRICTLY NO DENIM \nPlease Note\nEvents may be subject to cancellation due to covid restrictions as per the direction from ACT Health. \nDartConnect will be used at this event
URL:https://dartscanberra.com.au/event/brindabella-classic-open/
LOCATION:Canberra Southern Cross Club\, 92-96 Corrina St\, Phillip\, ACT\, 2607\, Australia
CATEGORIES:Tournament
ATTACH;FMTTYPE=image/png:https://dartscanberra.com.au/wp-content/uploads/2024/09/IMG_4106.png
ORGANIZER;CN="ACT Darts Inc.":MAILTO:dartsact.secretary@gmail.com
END:VEVENT
END:VCALENDAR