BEGIN:VCALENDAR
VERSION:2.0
PRODID:-//Darts Canberra - ECPv6.15.20//NONSGML v1.0//EN
CALSCALE:GREGORIAN
METHOD:PUBLISH
X-WR-CALNAME:Darts Canberra
X-ORIGINAL-URL:https://dartscanberra.com.au
X-WR-CALDESC:Events for Darts Canberra
REFRESH-INTERVAL;VALUE=DURATION:PT1H
X-Robots-Tag:noindex
X-PUBLISHED-TTL:PT1H
BEGIN:VTIMEZONE
TZID:Australia/Sydney
BEGIN:STANDARD
TZOFFSETFROM:+1100
TZOFFSETTO:+1000
TZNAME:AEST
DTSTART:20230401T160000
END:STANDARD
BEGIN:DAYLIGHT
TZOFFSETFROM:+1000
TZOFFSETTO:+1100
TZNAME:AEDT
DTSTART:20230930T160000
END:DAYLIGHT
BEGIN:STANDARD
TZOFFSETFROM:+1100
TZOFFSETTO:+1000
TZNAME:AEST
DTSTART:20240406T160000
END:STANDARD
BEGIN:DAYLIGHT
TZOFFSETFROM:+1000
TZOFFSETTO:+1100
TZNAME:AEDT
DTSTART:20241005T160000
END:DAYLIGHT
BEGIN:STANDARD
TZOFFSETFROM:+1100
TZOFFSETTO:+1000
TZNAME:AEST
DTSTART:20250405T160000
END:STANDARD
BEGIN:DAYLIGHT
TZOFFSETFROM:+1000
TZOFFSETTO:+1100
TZNAME:AEDT
DTSTART:20251004T160000
END:DAYLIGHT
END:VTIMEZONE
BEGIN:VTIMEZONE
TZID:UTC
BEGIN:STANDARD
TZOFFSETFROM:+0000
TZOFFSETTO:+0000
TZNAME:UTC
DTSTART:20230101T000000
END:STANDARD
END:VTIMEZONE
BEGIN:VEVENT
DTSTART;TZID=Australia/Sydney:20241201T100000
DTEND;TZID=Australia/Sydney:20241201T180000
DTSTAMP:20260425T044228
CREATED:20241012T193901Z
LAST-MODIFIED:20241012T193901Z
UID:819-1733047200-1733076000@dartscanberra.com.au
SUMMARY:Last Chance Open
DESCRIPTION:Last Chance Open\nDarts ACT would like to welcome all players to register for the Last Chance Open. \nThis is a Darts Australia event and you are playing for DA ranking points. Depending on the number of entries received\, prize money may be offered\, but not guaranteed. \nEligibility\nYou must be a current Darts Australia member. This means you must have full or associate membership with Darts ACT\, or have membership to another official group affiliated with Darts Australia. \nIf you do not\, then you will be required to join on the day. Please see tournament controller on the day to complete a membership form and to make payment of membership fee’s that become due and payable. \nPlayers may be asked to provide proof that they have a valid membership. \nEvent Fee\n$20 \nNote – The format will depend on the number of registrations received. \nRegistration\nOpens at 10.00am and closes at 10:30am and play will commence at the conclusion of the draw. \nThis is a Darts Australia sanctioned event. Dress rules are enforced and players must adhere to the rules\, otherwise entry may be refused. \nDress Rules\nDress Pants\, Collared Shirt and Enclosed Shoes. \nSTRICTLY NO DENIM \nPlease Note\nEvents may be subject to cancellation due to covid restrictions as per the direction from ACT Health. \nDartConnect will be used at this event
URL:https://dartscanberra.com.au/event/last-chance-open/
LOCATION:The Burns Club\, 28 Kett St\, Kambah\, ACT\, 2902\, Australia
CATEGORIES:Tournament
ATTACH;FMTTYPE=image/jpeg:https://dartscanberra.com.au/wp-content/uploads/2024/09/IMG_3921.jpeg
ORGANIZER;CN="ACT Darts Inc.":MAILTO:dartsact.secretary@gmail.com
END:VEVENT
BEGIN:VEVENT
DTSTART;TZID=UTC:20241202T190000
DTEND;TZID=UTC:20241202T213000
DTSTAMP:20260425T044228
CREATED:20241019T174250Z
LAST-MODIFIED:20241019T174736Z
UID:934-1733166000-1733175000@dartscanberra.com.au
SUMMARY:Darts ACT Singles League IX (Finals)
DESCRIPTION:ENTRY NOW CLOSED \nMonday Night Singles \nDarts ACT Singles League IX @ The Burns Club\, Kambah \nStart date = 14 October 2024 – 2 December 2024 – 8 weeks Time = 7pm for a 7:15pm start Monday Nights Cost = $150 (Players will need to be a member of DartsACT) The competition is open to players of all abilities Maximum numbers 32 (8 players each division) Message Ciaran on 0430 372 281 or ciaranholmes@hotmail.com for any questions. Complete Survey @ https://www.surveymonkey.com/r/GL8HW78 to register. \nNightly Format \nPlayers and divisions will to be finalised on Monday 15 July 2024 \n\nRound robin in groups of 4 (2 for each div) Best of 5 Legs\nTop 2 from each group will go to semi-final winners of semi-finals to playoff for nightly winner.\nEach night the 2 groups will be changed.\nThe same 4 players will not occur for each of the 7 league nights\nFinals Night 2 December 2024\n3 v 4 best of 9 legs (11 legs in Prem)\n1 v 2 best of 9 legs (11 legs in Prem)\nWinner Game A v Loser Game B best of 9 legs (11 legs in Prem)\nFinal – Winner of B v Winner of C Best of 11 legs (13 legs in Prem)\nPlayers will be placed in divisions based on previous leagues and averages\n\nPrize Money * Subject to player numbers and Sponsorship. \n\n1st $400 After 7 weeks\n2nd $300 High Peg = $50\n3rd $250 Most 100’s = $50\n4th $200 1st = $50\n5th $100\n\nPlayers and divisions will be finalised on 8 October 2024
URL:https://dartscanberra.com.au/event/darts-act-singles-league-ix-finals/
LOCATION:The Burns Club\, 28 Kett St\, Kambah\, ACT\, 2902\, Australia
CATEGORIES:Competition
ATTACH;FMTTYPE=image/png:https://dartscanberra.com.au/wp-content/uploads/2024/10/IMG_4853.png
ORGANIZER;CN="ACT Darts Inc.":MAILTO:dartsact.secretary@gmail.com
END:VEVENT
BEGIN:VEVENT
DTSTART;TZID=Australia/Sydney:20241206T190000
DTEND;TZID=Australia/Sydney:20241206T230000
DTSTAMP:20260425T044228
CREATED:20241019T175508Z
LAST-MODIFIED:20241117T133758Z
UID:945-1733511600-1733526000@dartscanberra.com.au
SUMMARY:ACT Darts Inc. Presentation Night
DESCRIPTION:
URL:https://dartscanberra.com.au/event/act-darts-inc-presentation-night/
LOCATION:The Austrian Australian Club\, Heard St\, Mawson\, ACT\, 2607\, Australia
CATEGORIES:Social
ORGANIZER;CN="ACT Darts Inc.":MAILTO:dartsact.secretary@gmail.com
END:VEVENT
BEGIN:VEVENT
DTSTART;TZID=Australia/Sydney:20241206T190000
DTEND;TZID=Australia/Sydney:20241206T230000
DTSTAMP:20260425T044228
CREATED:20241019T194220Z
LAST-MODIFIED:20241117T133927Z
UID:968-1733511600-1733526000@dartscanberra.com.au
SUMMARY:CDDA Presentation Night
DESCRIPTION:
URL:https://dartscanberra.com.au/event/cdda-presentation-night/
LOCATION:Cooma Bowling Club\, 6 Mawson St\, Cooma\, NSW\, 2630\, Australia
CATEGORIES:Social
END:VEVENT
END:VCALENDAR