BEGIN:VCALENDAR
VERSION:2.0
PRODID:-//Darts Canberra - ECPv6.15.20//NONSGML v1.0//EN
CALSCALE:GREGORIAN
METHOD:PUBLISH
X-ORIGINAL-URL:https://dartscanberra.com.au
X-WR-CALDESC:Events for Darts Canberra
REFRESH-INTERVAL;VALUE=DURATION:PT1H
X-Robots-Tag:noindex
X-PUBLISHED-TTL:PT1H
BEGIN:VTIMEZONE
TZID:Australia/Sydney
BEGIN:STANDARD
TZOFFSETFROM:+1100
TZOFFSETTO:+1000
TZNAME:AEST
DTSTART:20240406T160000
END:STANDARD
BEGIN:DAYLIGHT
TZOFFSETFROM:+1000
TZOFFSETTO:+1100
TZNAME:AEDT
DTSTART:20241005T160000
END:DAYLIGHT
BEGIN:STANDARD
TZOFFSETFROM:+1100
TZOFFSETTO:+1000
TZNAME:AEST
DTSTART:20250405T160000
END:STANDARD
BEGIN:DAYLIGHT
TZOFFSETFROM:+1000
TZOFFSETTO:+1100
TZNAME:AEDT
DTSTART:20251004T160000
END:DAYLIGHT
BEGIN:STANDARD
TZOFFSETFROM:+1100
TZOFFSETTO:+1000
TZNAME:AEST
DTSTART:20260404T160000
END:STANDARD
BEGIN:DAYLIGHT
TZOFFSETFROM:+1000
TZOFFSETTO:+1100
TZNAME:AEDT
DTSTART:20261003T160000
END:DAYLIGHT
END:VTIMEZONE
BEGIN:VEVENT
DTSTART;TZID=Australia/Sydney:20250303T190000
DTEND;TZID=Australia/Sydney:20250303T220000
DTSTAMP:20260424T213342
CREATED:20250102T162356Z
LAST-MODIFIED:20250102T162356Z
UID:1479-1741028400-1741039200@dartscanberra.com.au
SUMMARY:Darts ACT Singles League X
DESCRIPTION:Darts ACT Singles League X\nStart date:  3 February 2025 – 31 March 2025 – 8 weeks \nWeek off for Public Holiday 10 March \nTime: 7pm for a 7:15pm start Monday Nights @ The Burns Club Kambah \nCost: $150 (Players will need to be a member of DartsACT – $60 for 2025) \nThe competition is open to players of all abilities \nMaximum numbers 32 (8 players each division) \nMessage Ciaran on 0430 372 281 or ciaranholmes@hotmail.com for any questions. \nComplete Survey @ to register https://www.surveymonkey.com/r/HJ2QVKK \nNightly Format \nRound robin in groups of 4 (2 for each div) \nTop 2 from each group will go to semi-final winners of semi-finals to playoff for nightly winner. \nEach night the 2 groups will be changed. \nThe same 4 players will not occur for each of the 7 league nights. \nPlayers will be placed in divisions based on previous leagues and averages. \nPrize Money * Subject to player numbers and Sponsorship. \n1st $400  \n2nd $300  \n3rd $250  \n4th $200  \n5th $100 \nAfter 7 weeks \nHigh Peg = $50 \nMost 100’s = $50 \n1st = $50 \nPlayers and divisions will to be finalised on 30 January 2025
URL:https://dartscanberra.com.au/event/darts-act-singles-league-x-6/
LOCATION:The Burns Club\, 28 Kett St\, Kambah\, ACT\, 2902\, Australia
CATEGORIES:Competition
ATTACH;FMTTYPE=image/png:https://dartscanberra.com.au/wp-content/uploads/2024/10/IMG_4853.png
ORGANIZER;CN="ACT Darts Inc.":MAILTO:dartsact.secretary@gmail.com
END:VEVENT
BEGIN:VEVENT
DTSTART;TZID=Australia/Sydney:20250307T181500
DTEND;TZID=Australia/Sydney:20250307T213000
DTSTAMP:20260424T213342
CREATED:20250302T111620Z
LAST-MODIFIED:20250302T112408Z
UID:1579-1741371300-1741383000@dartscanberra.com.au
SUMMARY:Blind Draw Doubles
DESCRIPTION:🎯 Join Our Blind Draw Doubles Darts Event! 🎯 \n6:15-6:45pm registration for 7:00pm start \nCalling all darts enthusiasts\, whether you’re a seasoned pro or still wondering which end to throw!\nCome and join us for an exciting and slightly unpredictable Blind Draw Doubles event. It’s your chance to team up with fellow players at random and enjoy a thrilling 501 double elimination competition. \nEvent Highlights: \nRandom Team Draws: Get ready to make new friends (or frenemies) as you team up with someone you’ve never met! \nDouble Elimination: Double the chances to stay in the game – because everyone deserves a second chance\, right? \n$10 entry fee per player \nPrizes for Placings: Top teams will be rewarded! Bragging rights included. \nSpecial Awards: Highest peg\, 180s\, mystery peg\, etc. \nSo\, polish up your darts\, practice your aim and join us for a fun-filled\, laughter-packed darts experience. See you there! 🎯
URL:https://dartscanberra.com.au/event/blind-draw-doubles-2-3/
LOCATION:The Austrian Australian Club\, Heard St\, Mawson\, ACT\, 2607\, Australia
CATEGORIES:Social
ATTACH;FMTTYPE=image/jpeg:https://dartscanberra.com.au/wp-content/uploads/2025/03/Blind-Draw-Doubles-e1745206295299.jpg
ORGANIZER;CN="Darts Canberra":MAILTO:info@dartscanberra.com.au
END:VEVENT
BEGIN:VEVENT
DTSTART;TZID=Australia/Sydney:20250315T100000
DTEND;TZID=Australia/Sydney:20250315T180000
DTSTAMP:20260424T213342
CREATED:20250219T163545Z
LAST-MODIFIED:20250303T112312Z
UID:1502-1742032800-1742061600@dartscanberra.com.au
SUMMARY:ACT State Trials 1
DESCRIPTION:2025 ACT State Team Selection Trials 1 \nACT State Team to compete at the 2025 Australian Dart Championships which will be hosted by Darts Australia to be held at the Birkdale Sports Club in Brisbane QLD. \nCost is $50 and covers both selection trials. For players who are unsuccessful in being selected the represent the ACT\, those players will be refunded $20. \nRegistrations close at 10:30 am and play will commence at the conclusion of the draw. \nTrials is a round robin format of the best of 3 legs 501. \nIf trials do not conclude on Saturday\, players will be required to return on Sunday to complete trials. \n2nd trials will be held on the 22nd of March at the Burns Club. \nEligibility Criteria\nFor players to be eligible for representation duties\, each player must play 50% of the previous competition. If 50% is not achieved\, then eligibility is not achieved. Eg. 12 games for the season\, the player must have played six nights to be eligible.
URL:https://dartscanberra.com.au/event/act-state-trials-1/
LOCATION:The Burns Club\, 28 Kett St\, Kambah\, ACT\, 2902\, Australia
CATEGORIES:Tournament
ATTACH;FMTTYPE=image/png:https://dartscanberra.com.au/wp-content/uploads/2025/02/IMG_5878.png
ORGANIZER;CN="ACT Darts Inc.":MAILTO:dartsact.secretary@gmail.com
END:VEVENT
BEGIN:VEVENT
DTSTART;TZID=Australia/Sydney:20250317T190000
DTEND;TZID=Australia/Sydney:20250317T220000
DTSTAMP:20260424T213342
CREATED:20250102T162528Z
LAST-MODIFIED:20250102T162528Z
UID:1481-1742238000-1742248800@dartscanberra.com.au
SUMMARY:Darts ACT Singles League X
DESCRIPTION:Darts ACT Singles League X\nStart date:  3 February 2025 – 31 March 2025 – 8 weeks \nWeek off for Public Holiday 10 March \nTime: 7pm for a 7:15pm start Monday Nights @ The Burns Club Kambah \nCost: $150 (Players will need to be a member of DartsACT – $60 for 2025) \nThe competition is open to players of all abilities \nMaximum numbers 32 (8 players each division) \nMessage Ciaran on 0430 372 281 or ciaranholmes@hotmail.com for any questions. \nComplete Survey @ to register https://www.surveymonkey.com/r/HJ2QVKK \nNightly Format \nRound robin in groups of 4 (2 for each div) \nTop 2 from each group will go to semi-final winners of semi-finals to playoff for nightly winner. \nEach night the 2 groups will be changed. \nThe same 4 players will not occur for each of the 7 league nights. \nPlayers will be placed in divisions based on previous leagues and averages. \nPrize Money * Subject to player numbers and Sponsorship. \n1st $400  \n2nd $300  \n3rd $250  \n4th $200  \n5th $100 \nAfter 7 weeks \nHigh Peg = $50 \nMost 100’s = $50 \n1st = $50 \nPlayers and divisions will to be finalised on 30 January 2025
URL:https://dartscanberra.com.au/event/darts-act-singles-league-x-7/
LOCATION:The Burns Club\, 28 Kett St\, Kambah\, ACT\, 2902\, Australia
CATEGORIES:Competition
ATTACH;FMTTYPE=image/png:https://dartscanberra.com.au/wp-content/uploads/2024/10/IMG_4853.png
ORGANIZER;CN="ACT Darts Inc.":MAILTO:dartsact.secretary@gmail.com
END:VEVENT
BEGIN:VEVENT
DTSTART;TZID=Australia/Sydney:20250322T100000
DTEND;TZID=Australia/Sydney:20250322T180000
DTSTAMP:20260424T213343
CREATED:20250219T163633Z
LAST-MODIFIED:20250303T112423Z
UID:1504-1742637600-1742666400@dartscanberra.com.au
SUMMARY:ACT State Trials 2
DESCRIPTION:2025 ACT State Team Selection Trials 2 \nACT State Team to compete at the 2025 Australian Dart Championships which will be hosted by Darts Australia at the Birkdale Sports Club in Brisbane QLD. \nCost is $50 and covers both selection trials. For players who are unsuccessful in being selected the represent the ACT\, those players will be refunded $20. \nPlay will commence from 10:30 am at the conclusion of the draw. \nTrials is a round robin format of the best of 3 legs 501. \nIf trials do not conclude on Saturday\, players will be required to return on Sunday to complete trials. \n1st trials were held on the 15th of March. \nEligibility Criteria\nFor players to be eligible for representation duties\, each player must play 50% of the previous competition. If 50% is not achieved\, then eligibility is not achieved. Eg. 12 games for the season\, the player must have played six nights to be eligible.
URL:https://dartscanberra.com.au/event/act-state-trials-2/
LOCATION:The Burns Club\, 28 Kett St\, Kambah\, ACT\, 2902\, Australia
CATEGORIES:Tournament
ATTACH;FMTTYPE=image/png:https://dartscanberra.com.au/wp-content/uploads/2025/02/IMG_5879.png
ORGANIZER;CN="ACT Darts Inc.":MAILTO:dartsact.secretary@gmail.com
END:VEVENT
BEGIN:VEVENT
DTSTART;TZID=Australia/Sydney:20250324T190000
DTEND;TZID=Australia/Sydney:20250324T220000
DTSTAMP:20260424T213343
CREATED:20250102T162644Z
LAST-MODIFIED:20250102T162644Z
UID:1483-1742842800-1742853600@dartscanberra.com.au
SUMMARY:Darts ACT Singles League X
DESCRIPTION:Darts ACT Singles League X\nStart date:  3 February 2025 – 31 March 2025 – 8 weeks \nWeek off for Public Holiday 10 March \nTime: 7pm for a 7:15pm start Monday Nights @ The Burns Club Kambah \nCost: $150 (Players will need to be a member of DartsACT – $60 for 2025) \nThe competition is open to players of all abilities \nMaximum numbers 32 (8 players each division) \nMessage Ciaran on 0430 372 281 or ciaranholmes@hotmail.com for any questions. \nComplete Survey @ to register https://www.surveymonkey.com/r/HJ2QVKK \nNightly Format \nRound robin in groups of 4 (2 for each div) \nTop 2 from each group will go to semi-final winners of semi-finals to playoff for nightly winner. \nEach night the 2 groups will be changed. \nThe same 4 players will not occur for each of the 7 league nights. \nPlayers will be placed in divisions based on previous leagues and averages. \nPrize Money * Subject to player numbers and Sponsorship. \n1st $400  \n2nd $300  \n3rd $250  \n4th $200  \n5th $100 \nAfter 7 weeks \nHigh Peg = $50 \nMost 100’s = $50 \n1st = $50 \nPlayers and divisions will to be finalised on 30 January 2025
URL:https://dartscanberra.com.au/event/darts-act-singles-league-x-8/
LOCATION:The Burns Club\, 28 Kett St\, Kambah\, ACT\, 2902\, Australia
CATEGORIES:Competition
ATTACH;FMTTYPE=image/png:https://dartscanberra.com.au/wp-content/uploads/2024/10/IMG_4853.png
ORGANIZER;CN="ACT Darts Inc.":MAILTO:dartsact.secretary@gmail.com
END:VEVENT
BEGIN:VEVENT
DTSTART;TZID=Australia/Sydney:20250331T190000
DTEND;TZID=Australia/Sydney:20250331T220000
DTSTAMP:20260424T213343
CREATED:20250102T162755Z
LAST-MODIFIED:20250102T162755Z
UID:1485-1743447600-1743458400@dartscanberra.com.au
SUMMARY:Darts ACT Singles League X (FINAL)
DESCRIPTION:Darts ACT Singles League X (FINAL)\nStart date:  3 February 2025 – 31 March 2025 – 8 weeks \nWeek off for Public Holiday 10 March \nTime: 7pm for a 7:15pm start Monday Nights @ The Burns Club Kambah \nCost: $150 (Players will need to be a member of DartsACT – $60 for 2025) \nThe competition is open to players of all abilities \nMaximum numbers 32 (8 players each division) \nMessage Ciaran on 0430 372 281 or ciaranholmes@hotmail.com for any questions. \nComplete Survey @ to register https://www.surveymonkey.com/r/HJ2QVKK \nNightly Format \nRound robin in groups of 4 (2 for each div) \nTop 2 from each group will go to semi-final winners of semi-finals to playoff for nightly winner. \nEach night the 2 groups will be changed. \nThe same 4 players will not occur for each of the 7 league nights. \nPlayers will be placed in divisions based on previous leagues and averages. \nPrize Money * Subject to player numbers and Sponsorship. \n1st $400  \n2nd $300  \n3rd $250  \n4th $200  \n5th $100 \nAfter 7 weeks \nHigh Peg = $50 \nMost 100’s = $50 \n1st = $50 \nPlayers and divisions will to be finalised on 30 January 2025
URL:https://dartscanberra.com.au/event/darts-act-singles-league-x-final/
LOCATION:The Burns Club\, 28 Kett St\, Kambah\, ACT\, 2902\, Australia
CATEGORIES:Competition
ATTACH;FMTTYPE=image/png:https://dartscanberra.com.au/wp-content/uploads/2024/10/IMG_4853.png
ORGANIZER;CN="ACT Darts Inc.":MAILTO:dartsact.secretary@gmail.com
END:VEVENT
END:VCALENDAR