BEGIN:VCALENDAR
VERSION:2.0
PRODID:-//Darts Canberra - ECPv6.15.20//NONSGML v1.0//EN
CALSCALE:GREGORIAN
METHOD:PUBLISH
X-WR-CALNAME:Darts Canberra
X-ORIGINAL-URL:https://dartscanberra.com.au
X-WR-CALDESC:Events for Darts Canberra
REFRESH-INTERVAL;VALUE=DURATION:PT1H
X-Robots-Tag:noindex
X-PUBLISHED-TTL:PT1H
BEGIN:VTIMEZONE
TZID:Australia/Sydney
BEGIN:STANDARD
TZOFFSETFROM:+1100
TZOFFSETTO:+1000
TZNAME:AEST
DTSTART:20240406T160000
END:STANDARD
BEGIN:DAYLIGHT
TZOFFSETFROM:+1000
TZOFFSETTO:+1100
TZNAME:AEDT
DTSTART:20241005T160000
END:DAYLIGHT
BEGIN:STANDARD
TZOFFSETFROM:+1100
TZOFFSETTO:+1000
TZNAME:AEST
DTSTART:20250405T160000
END:STANDARD
BEGIN:DAYLIGHT
TZOFFSETFROM:+1000
TZOFFSETTO:+1100
TZNAME:AEDT
DTSTART:20251004T160000
END:DAYLIGHT
BEGIN:STANDARD
TZOFFSETFROM:+1100
TZOFFSETTO:+1000
TZNAME:AEST
DTSTART:20260404T160000
END:STANDARD
BEGIN:DAYLIGHT
TZOFFSETFROM:+1000
TZOFFSETTO:+1100
TZNAME:AEDT
DTSTART:20261003T160000
END:DAYLIGHT
END:VTIMEZONE
BEGIN:VEVENT
DTSTART;TZID=Australia/Sydney:20251003T181500
DTEND;TZID=Australia/Sydney:20251003T213000
DTSTAMP:20260424T100303
CREATED:20250920T190356Z
LAST-MODIFIED:20250920T190356Z
UID:7381-1759515300-1759527000@dartscanberra.com.au
SUMMARY:Blind Draw Doubles
DESCRIPTION:🎯 Join Our Blind Draw Doubles Darts Event! 🎯 \n6:15-6:45pm registration for 7:00pm start \nCalling all darts enthusiasts\, whether you’re a seasoned pro or still wondering which end to throw!\nCome and join us for an exciting and slightly unpredictable Blind Draw Doubles event. It’s your chance to team up with fellow players at random and enjoy a thrilling 501 double elimination competition. \nEvent Highlights: \nRandom Team Draws: Get ready to make new friends (or frenemies) as you team up with someone you’ve never met! \nDouble Elimination: Double the chances to stay in the game – because everyone deserves a second chance\, right? \n$10 entry fee per player \nPrizes for Placings: Top teams will be rewarded! Bragging rights included. \nSpecial Awards: Highest peg\, 180s\, mystery peg\, etc. \nSo\, polish up your darts\, practice your aim and join us for a fun-filled\, laughter-packed darts experience. See you there! 🎯
URL:https://dartscanberra.com.au/event/blind-draw-doubles-2-20/
LOCATION:Lanyon Vikings Club\, 29 Heidelberg St\, Conder\, ACT\, 2906\, Australia
CATEGORIES:Social
ATTACH;FMTTYPE=image/jpeg:https://dartscanberra.com.au/wp-content/uploads/2025/03/Blind-Draw-Doubles-e1745206295299.jpg
ORGANIZER;CN="Darts Canberra":MAILTO:info@dartscanberra.com.au
END:VEVENT
BEGIN:VEVENT
DTSTART;TZID=Australia/Sydney:20251012T143000
DTEND;TZID=Australia/Sydney:20251012T190000
DTSTAMP:20260424T100303
CREATED:20250907T153135Z
LAST-MODIFIED:20250907T153135Z
UID:5794-1760279400-1760295600@dartscanberra.com.au
SUMMARY:Sunday Session Singles – Queanbeyan
DESCRIPTION:SUNDAY SESSION SINGLES AT THE TOURIST HOTEL\n(please note this event is being held on the 2nd Sunday of the month instead of the regular 1st Sunday of the month due to NRL Grand Final the week before ) \n$10 BUY IN \nREGO FROM 2:30pm \n1st GAMES AT 3pm SHARP NEXT ROUND 3rd AUGUST \nFOLLOW QUEANBEYAN SOCIAL DARTS & TOURIST HOTEL ON FACEBOOK FOR THE THEME OF THE MONTH. \nWEAR OR DRESS AS THE THEME FOR HALF PRICE ENTRY FEE. \nTHE THEME WILL BE POSTED ON FACEBOOK ON THE MONDAY PRIOR TO THAT ROUND.
URL:https://dartscanberra.com.au/event/sunday-session-singles-queanbeyan-3/
LOCATION:Tourist Hotel\, 31 Monaro St\, Queanbeyan\, NSW\, 2620\, Australia
CATEGORIES:Social
ATTACH;FMTTYPE=image/jpeg:https://dartscanberra.com.au/wp-content/uploads/2025/07/IMG_6557.jpeg
END:VEVENT
BEGIN:VEVENT
DTSTART;TZID=Australia/Sydney:20251017T181500
DTEND;TZID=Australia/Sydney:20251017T213000
DTSTAMP:20260424T100303
CREATED:20250420T175846Z
LAST-MODIFIED:20251010T124624Z
UID:1921-1760724900-1760736600@dartscanberra.com.au
SUMMARY:🎯 CANCELLED 🎯 Blind Draw Doubles
DESCRIPTION:Sorry guys…BDD unable to be held 17/10/25 \n🎯 Join Our Blind Draw Doubles Darts Event! 🎯 \n6:15-6:45pm registration for 7:00pm start \nCalling all darts enthusiasts\, whether you’re a seasoned pro or still wondering which end to throw!\nCome and join us for an exciting and slightly unpredictable Blind Draw Doubles event. It’s your chance to team up with fellow players at random and enjoy a thrilling 501 double elimination competition. \nEvent Highlights: \nRandom Team Draws: Get ready to make new friends (or frenemies) as you team up with someone you’ve never met! \nDouble Elimination: Double the chances to stay in the game – because everyone deserves a second chance\, right? \n$10 entry fee per player \nPrizes for Placings: Top teams will be rewarded! Bragging rights included. \nSpecial Awards: Highest peg\, 180s\, mystery peg\, etc. \nSo\, polish up your darts\, practice your aim and join us for a fun-filled\, laughter-packed darts experience. See you there! 🎯
URL:https://dartscanberra.com.au/event/blind-draw-doubles-2-15/
LOCATION:Lanyon Vikings Club\, 29 Heidelberg St\, Conder\, ACT\, 2906\, Australia
CATEGORIES:Social
ATTACH;FMTTYPE=image/jpeg:https://dartscanberra.com.au/wp-content/uploads/2025/03/Blind-Draw-Doubles-e1745206295299.jpg
ORGANIZER;CN="Darts Canberra":MAILTO:info@dartscanberra.com.au
END:VEVENT
BEGIN:VEVENT
DTSTART;TZID=Australia/Sydney:20251019T110000
DTEND;TZID=Australia/Sydney:20251019T170000
DTSTAMP:20260424T100303
CREATED:20250917T183848Z
LAST-MODIFIED:20251015T175114Z
UID:6378-1760871600-1760893200@dartscanberra.com.au
SUMMARY:Darts Canberra Grand Prix 2025
DESCRIPTION:Join Darts Canberra for their 2nd Annual Grand Prix event \nMaximum 36 players (pre paid only). Must be registered by 6pm Tuesday 14/10/25 \nEntry Fee: $26.50 per player \n11:00am to 11:15am check in for 11:30am start. \n*This will be a handicap system on the day based on your Dartconnect players card or average in a current playing competition (whichever is higher). Please provide details prior to event. \nRound Robin (6 groups of 6*) \n501 Double In/Double Out \nBest of 3 \n(Top 2* in each group + 4 Wild Card (highest 3rd places) to progress) \nQ/F Knockout (Top 16*) \n501 Double In/Double Out \nBest of 3 \nS/F Knockout (Top 4) \n501 Double In/Double Out \nBest of 3 or 5 (dependant on time restrictions) \nFinal \n501 Double In/Double Out \nBest of 3\, 5 or 7 (dependant on time restrictions) \nDartConnect scoring \n*Finalists and prizes to be confirmed based on numbers
URL:https://dartscanberra.com.au/event/darts-canberra-grand-prix-2025/
LOCATION:Lanyon Vikings Club\, 29 Heidelberg St\, Conder\, ACT\, 2906\, Australia
CATEGORIES:Tournament
ATTACH;FMTTYPE=application/pdf:https://dartscanberra.com.au/wp-content/uploads/2025/09/Blind-Draw-Doubles-2.pdf
ORGANIZER;CN="Darts Canberra":MAILTO:info@dartscanberra.com.au
END:VEVENT
BEGIN:VEVENT
DTSTART;TZID=Australia/Sydney:20251031T181500
DTEND;TZID=Australia/Sydney:20251031T213000
DTSTAMP:20260424T100303
CREATED:20250420T180036Z
LAST-MODIFIED:20250704T130133Z
UID:1923-1761934500-1761946200@dartscanberra.com.au
SUMMARY:Blind Draw Doubles
DESCRIPTION:🎯 Join Our Blind Draw Doubles Darts Event! 🎯 \n6:15-6:45pm registration for 7:00pm start \nCalling all darts enthusiasts\, whether you’re a seasoned pro or still wondering which end to throw!\nCome and join us for an exciting and slightly unpredictable Blind Draw Doubles event. It’s your chance to team up with fellow players at random and enjoy a thrilling 501 double elimination competition. \nEvent Highlights: \nRandom Team Draws: Get ready to make new friends (or frenemies) as you team up with someone you’ve never met! \nDouble Elimination: Double the chances to stay in the game – because everyone deserves a second chance\, right? \n$10 entry fee per player \nPrizes for Placings: Top teams will be rewarded! Bragging rights included. \nSpecial Awards: Highest peg\, 180s\, mystery peg\, etc. \nSo\, polish up your darts\, practice your aim and join us for a fun-filled\, laughter-packed darts experience. See you there! 🎯
URL:https://dartscanberra.com.au/event/blind-draw-doubles-2-16/
LOCATION:Lanyon Vikings Club\, 29 Heidelberg St\, Conder\, ACT\, 2906\, Australia
CATEGORIES:Social
ATTACH;FMTTYPE=image/jpeg:https://dartscanberra.com.au/wp-content/uploads/2025/03/Blind-Draw-Doubles-e1745206295299.jpg
ORGANIZER;CN="Darts Canberra":MAILTO:info@dartscanberra.com.au
END:VEVENT
END:VCALENDAR