BEGIN:VCALENDAR
VERSION:2.0
PRODID:-//Darts Canberra - ECPv6.15.20//NONSGML v1.0//EN
CALSCALE:GREGORIAN
METHOD:PUBLISH
X-ORIGINAL-URL:https://dartscanberra.com.au
X-WR-CALDESC:Events for Darts Canberra
REFRESH-INTERVAL;VALUE=DURATION:PT1H
X-Robots-Tag:noindex
X-PUBLISHED-TTL:PT1H
BEGIN:VTIMEZONE
TZID:Australia/Sydney
BEGIN:STANDARD
TZOFFSETFROM:+1100
TZOFFSETTO:+1000
TZNAME:AEST
DTSTART:20250405T160000
END:STANDARD
BEGIN:DAYLIGHT
TZOFFSETFROM:+1000
TZOFFSETTO:+1100
TZNAME:AEDT
DTSTART:20251004T160000
END:DAYLIGHT
BEGIN:STANDARD
TZOFFSETFROM:+1100
TZOFFSETTO:+1000
TZNAME:AEST
DTSTART:20260404T160000
END:STANDARD
BEGIN:DAYLIGHT
TZOFFSETFROM:+1000
TZOFFSETTO:+1100
TZNAME:AEDT
DTSTART:20261003T160000
END:DAYLIGHT
BEGIN:STANDARD
TZOFFSETFROM:+1100
TZOFFSETTO:+1000
TZNAME:AEST
DTSTART:20270403T160000
END:STANDARD
BEGIN:DAYLIGHT
TZOFFSETFROM:+1000
TZOFFSETTO:+1100
TZNAME:AEDT
DTSTART:20271002T160000
END:DAYLIGHT
END:VTIMEZONE
BEGIN:VEVENT
DTSTART;TZID=Australia/Sydney:20260104T080000
DTEND;TZID=Australia/Sydney:20260104T170000
DTSTAMP:20260424T053400
CREATED:20260102T125536Z
LAST-MODIFIED:20260102T125536Z
UID:8673-1767513600-1767546000@dartscanberra.com.au
SUMMARY:Sunday Session Singles – Queanbeyan
DESCRIPTION:SUNDAY SESSION SINGLES AT THE TOURIST HOTEL\n$10 BUY IN \nREGO FROM 2:30pm \n1st GAMES AT 3pm SHARP \nFOLLOW QUEANBEYAN SOCIAL DARTS & TOURIST HOTEL ON FACEBOOK FOR THE THEME OF THE MONTH. \nWEAR OR DRESS AS THE THEME FOR HALF PRICE ENTRY FEE. \nTHE THEME WILL BE POSTED ON FACEBOOK ON THE MONDAY PRIOR TO THAT ROUND.
URL:https://dartscanberra.com.au/event/sunday-session-singles-queanbeyan-4/
LOCATION:Tourist Hotel\, 31 Monaro St\, Queanbeyan\, NSW\, 2620\, Australia
CATEGORIES:Social
ATTACH;FMTTYPE=image/jpeg:https://dartscanberra.com.au/wp-content/uploads/2025/07/IMG_6557.jpeg
END:VEVENT
BEGIN:VEVENT
DTSTART;TZID=Australia/Sydney:20260109T080000
DTEND;TZID=Australia/Sydney:20260109T170000
DTSTAMP:20260424T053400
CREATED:20260102T124943Z
LAST-MODIFIED:20260102T125024Z
UID:8671-1767945600-1767978000@dartscanberra.com.au
SUMMARY:Social Rotating Doubles
DESCRIPTION:🎯 Join Our Social Rotating Doubles Darts Event! 🎯 \n6:15-6:45pm registration for 7:00pm start \nCalling all darts enthusiasts\, whether you’re a seasoned pro or still wondering which end to throw!\nCome and join us for an exciting and slightly unpredictable Rotating Doubles event. It’s your chance to team up with fellow players at random and enjoy a thrilling 701 doubles competition. \nEvent Highlights: \nRandom Team Draws: Get ready to make new friends (or frenemies) as you team up with someone you’ve never met! \nSet number of rounds so each player has equal playing time. \n$10 entry fee per player \nPrizes for Placings: Top teams will be rewarded! Bragging rights included. \nSpecial Awards: Highest peg\, 180s\, mystery peg – because who doesn’t love a little mystery? \nSo\, polish up your darts\, practice your aim and join us for a fun-filled\, laughter-packed darts experience. See you there! 🎯
URL:https://dartscanberra.com.au/event/social-rotating-doubles-3/
LOCATION:Lanyon Vikings Club\, 29 Heidelberg St\, Conder\, ACT\, 2906\, Australia
CATEGORIES:Social
ORGANIZER;CN="Darts Canberra":MAILTO:info@dartscanberra.com.au
END:VEVENT
BEGIN:VEVENT
DTSTART;TZID=Australia/Sydney:20260120T170000
DTEND;TZID=Australia/Sydney:20260120T190000
DTSTAMP:20260424T053400
CREATED:20260118T141601Z
LAST-MODIFIED:20260118T141601Z
UID:8700-1768928400-1768935600@dartscanberra.com.au
SUMMARY:Soft Tip Darts Happy Hours
DESCRIPTION:Come and enjoy 2 hours of free play on all VDarts machine games.
URL:https://dartscanberra.com.au/event/soft-tip-darts-happy-hours/
LOCATION:Meet Point House\, 2 Hawker place\, Hawker\, ACT\, 2614\, Australia
CATEGORIES:Social
ATTACH;FMTTYPE=image/png:https://dartscanberra.com.au/wp-content/uploads/2026/01/Brown-and-Yellow-Modern-Blocks-Join-our-Event-Food-and-Hospitality-Static-QR-Code-Promotion-UPshow-Campaign.png
ORGANIZER;CN="Darts Canberra":MAILTO:info@dartscanberra.com.au
END:VEVENT
BEGIN:VEVENT
DTSTART;TZID=Australia/Sydney:20260123T181500
DTEND;TZID=Australia/Sydney:20260123T213000
DTSTAMP:20260424T053400
CREATED:20260118T123348Z
LAST-MODIFIED:20260118T123348Z
UID:8691-1769192100-1769203800@dartscanberra.com.au
SUMMARY:Social Darts - Rotating Doubles
DESCRIPTION:🎯 Join Our Social Rotating Doubles Darts Event! 🎯 \n6:15-6:45pm registration for 7:00pm start \nCalling all darts enthusiasts\, whether you’re a seasoned pro or still wondering which end to throw!\nCome and join us for an exciting and slightly unpredictable Rotating Doubles event. It’s your chance to team up with fellow players at random and enjoy a thrilling 701 doubles competition. \nEvent Highlights: \nRandom Team Draws: Get ready to make new friends (or frenemies) as you team up with someone you’ve never met! \nSet number of rounds so each player has equal playing time. \n$10 entry fee per player \nPrizes for Placings: Top teams will be rewarded! Bragging rights included. \nSpecial Awards: Highest peg\, 180s\, mystery peg – because who doesn’t love a little mystery? \nSo\, polish up your darts\, practice your aim and join us for a fun-filled\, laughter-packed darts experience. See you there! 🎯
URL:https://dartscanberra.com.au/event/social-darts-rotating-doubles/
LOCATION:Lanyon Vikings Club\, 29 Heidelberg St\, Conder\, ACT\, 2906\, Australia
CATEGORIES:Social
ATTACH;FMTTYPE=image/jpeg:https://dartscanberra.com.au/wp-content/uploads/2025/07/IMG_6343-scaled-e1775429960648.jpeg
ORGANIZER;CN="Darts Canberra":MAILTO:info@dartscanberra.com.au
END:VEVENT
BEGIN:VEVENT
DTSTART;TZID=Australia/Sydney:20260124T090000
DTEND;TZID=Australia/Sydney:20260124T170000
DTSTAMP:20260424T053400
CREATED:20260118T140016Z
LAST-MODIFIED:20260118T140016Z
UID:8693-1769245200-1769274000@dartscanberra.com.au
SUMMARY:Southern Country Championships - Doubles
DESCRIPTION:
URL:https://dartscanberra.com.au/event/southern-country-championships-doubles/
LOCATION:Cootamundra Golf & Sports Club\, 94 Hurley St\, Cootamundra\, NSW\, 2590\, Australia
CATEGORIES:Tournament
ATTACH;FMTTYPE=image/jpeg:https://dartscanberra.com.au/wp-content/uploads/2024/10/IMG_4815.jpeg
END:VEVENT
BEGIN:VEVENT
DTSTART;TZID=Australia/Sydney:20260125T090000
DTEND;TZID=Australia/Sydney:20260125T170000
DTSTAMP:20260424T053400
CREATED:20260118T140135Z
LAST-MODIFIED:20260118T140135Z
UID:8695-1769331600-1769360400@dartscanberra.com.au
SUMMARY:Southern Country Championships - Singles
DESCRIPTION:
URL:https://dartscanberra.com.au/event/southern-country-championships-singles/
LOCATION:Cootamundra Golf & Sports Club\, 94 Hurley St\, Cootamundra\, NSW\, 2590\, Australia
CATEGORIES:Tournament
ATTACH;FMTTYPE=image/jpeg:https://dartscanberra.com.au/wp-content/uploads/2024/10/IMG_4815.jpeg
END:VEVENT
END:VCALENDAR